BEGIN:VCALENDAR
VERSION:2.0
PRODID:-//CDA Court 2690 - ECPv6.15.20//NONSGML v1.0//EN
CALSCALE:GREGORIAN
METHOD:PUBLISH
X-WR-CALNAME:CDA Court 2690
X-ORIGINAL-URL:https://cdaboerne.org
X-WR-CALDESC:Events for CDA Court 2690
REFRESH-INTERVAL;VALUE=DURATION:PT1H
X-Robots-Tag:noindex
X-PUBLISHED-TTL:PT1H
BEGIN:VTIMEZONE
TZID:America/Chicago
BEGIN:DAYLIGHT
TZOFFSETFROM:-0600
TZOFFSETTO:-0500
TZNAME:CDT
DTSTART:20220313T080000
END:DAYLIGHT
BEGIN:STANDARD
TZOFFSETFROM:-0500
TZOFFSETTO:-0600
TZNAME:CST
DTSTART:20221106T070000
END:STANDARD
BEGIN:DAYLIGHT
TZOFFSETFROM:-0600
TZOFFSETTO:-0500
TZNAME:CDT
DTSTART:20230312T080000
END:DAYLIGHT
BEGIN:STANDARD
TZOFFSETFROM:-0500
TZOFFSETTO:-0600
TZNAME:CST
DTSTART:20231105T070000
END:STANDARD
BEGIN:DAYLIGHT
TZOFFSETFROM:-0600
TZOFFSETTO:-0500
TZNAME:CDT
DTSTART:20240310T080000
END:DAYLIGHT
BEGIN:STANDARD
TZOFFSETFROM:-0500
TZOFFSETTO:-0600
TZNAME:CST
DTSTART:20241103T070000
END:STANDARD
BEGIN:DAYLIGHT
TZOFFSETFROM:-0600
TZOFFSETTO:-0500
TZNAME:CDT
DTSTART:20250309T080000
END:DAYLIGHT
BEGIN:STANDARD
TZOFFSETFROM:-0500
TZOFFSETTO:-0600
TZNAME:CST
DTSTART:20251102T070000
END:STANDARD
END:VTIMEZONE
BEGIN:VEVENT
DTSTART;TZID=America/Chicago:20240628T080000
DTEND;TZID=America/Chicago:20240628T170000
DTSTAMP:20260424T150757
CREATED:20240603T111140Z
LAST-MODIFIED:20240605T104834Z
UID:8631-1719561600-1719594000@cdaboerne.org
SUMMARY:Snack Preparation for Tour deBoerne
DESCRIPTION:More details to follow – starting @ 10 a.m. – in the Gym \n  \nhttps://www.signupgenius.com/go/10C0E49ABA623A1FECF8-49711033-tour
URL:https://cdaboerne.org/event/snack-preparation-for-tour-deboerne/
LOCATION:Tour deBoerne
ORGANIZER;CN="Janice Almeida%2C Regent":MAILTO:janice.maggie1@gmail.com
END:VEVENT
BEGIN:VEVENT
DTSTART;VALUE=DATE:20230623
DTEND;VALUE=DATE:20230625
DTSTAMP:20260424T150757
CREATED:20230523T155404Z
LAST-MODIFIED:20230523T155404Z
UID:4842-1687478400-1687651199@cdaboerne.org
SUMMARY:Tour deBoerne
DESCRIPTION:CDA is being asked to help with making sandwiches and preparing oranges for the participants; along with helping with the Venue on the day of the event. \nMore details to follow
URL:https://cdaboerne.org/event/tour-deboerne/
LOCATION:Tour deBoerne
END:VEVENT
END:VCALENDAR