BEGIN:VCALENDAR
VERSION:2.0
PRODID:-//CDA Court 2690 - ECPv6.15.20//NONSGML v1.0//EN
CALSCALE:GREGORIAN
METHOD:PUBLISH
X-WR-CALNAME:CDA Court 2690
X-ORIGINAL-URL:https://cdaboerne.org
X-WR-CALDESC:Events for CDA Court 2690
REFRESH-INTERVAL;VALUE=DURATION:PT1H
X-Robots-Tag:noindex
X-PUBLISHED-TTL:PT1H
BEGIN:VTIMEZONE
TZID:America/Chicago
BEGIN:DAYLIGHT
TZOFFSETFROM:-0600
TZOFFSETTO:-0500
TZNAME:CDT
DTSTART:20220313T080000
END:DAYLIGHT
BEGIN:STANDARD
TZOFFSETFROM:-0500
TZOFFSETTO:-0600
TZNAME:CST
DTSTART:20221106T070000
END:STANDARD
BEGIN:DAYLIGHT
TZOFFSETFROM:-0600
TZOFFSETTO:-0500
TZNAME:CDT
DTSTART:20230312T080000
END:DAYLIGHT
BEGIN:STANDARD
TZOFFSETFROM:-0500
TZOFFSETTO:-0600
TZNAME:CST
DTSTART:20231105T070000
END:STANDARD
BEGIN:DAYLIGHT
TZOFFSETFROM:-0600
TZOFFSETTO:-0500
TZNAME:CDT
DTSTART:20240310T080000
END:DAYLIGHT
BEGIN:STANDARD
TZOFFSETFROM:-0500
TZOFFSETTO:-0600
TZNAME:CST
DTSTART:20241103T070000
END:STANDARD
BEGIN:DAYLIGHT
TZOFFSETFROM:-0600
TZOFFSETTO:-0500
TZNAME:CDT
DTSTART:20250309T080000
END:DAYLIGHT
BEGIN:STANDARD
TZOFFSETFROM:-0500
TZOFFSETTO:-0600
TZNAME:CST
DTSTART:20251102T070000
END:STANDARD
END:VTIMEZONE
BEGIN:VTIMEZONE
TZID:UTC
BEGIN:STANDARD
TZOFFSETFROM:+0000
TZOFFSETTO:+0000
TZNAME:UTC
DTSTART:20210101T000000
END:STANDARD
END:VTIMEZONE
BEGIN:VEVENT
DTSTART;TZID=America/Chicago:20240709T180000
DTEND;TZID=America/Chicago:20240709T203000
DTSTAMP:20260424T150814
CREATED:20230918T124912Z
LAST-MODIFIED:20260112T191511Z
UID:5852-1720548000-1720557000@cdaboerne.org
SUMMARY:CDA Court Meeting
DESCRIPTION:Link to bring food for the meeting
URL:https://cdaboerne.org/event/cda-court-meeting/2024-07-09/
LOCATION:St. Anthony’s @ UTR\, 416 W. Highland\, Boerne\, TX\, 78006\, United States
ORGANIZER;CN="Janice Almeida%2C Regent":MAILTO:janice.maggie1@gmail.com
END:VEVENT
BEGIN:VEVENT
DTSTART;TZID=America/Chicago:20240608T100000
DTEND;TZID=America/Chicago:20240608T150000
DTSTAMP:20260424T150814
CREATED:20240603T113039Z
LAST-MODIFIED:20240603T113039Z
UID:8633-1717840800-1717858800@cdaboerne.org
SUMMARY:Family Fun Fest @ Upon the Rock
DESCRIPTION:Below is a sign-up for the Family Fun Fest to be held on Saturday\, June 8th\, at Upon This Rock Campus.  On the desserts\, please bring cookies\, brownies\, cup cakes\, etc. where a fork will not be necessary to eat it.  Servers for the lunch are also needed. \n\nFamily Fest Sign up \n 
URL:https://cdaboerne.org/event/family-fun-fest-upon-the-rock/
LOCATION:St. Anthony’s @ UTR\, 416 W. Highland\, Boerne\, TX\, 78006\, United States
END:VEVENT
BEGIN:VEVENT
DTSTART;TZID=America/Chicago:20240514T180000
DTEND;TZID=America/Chicago:20240514T203000
DTSTAMP:20260424T150814
CREATED:20230918T124912Z
LAST-MODIFIED:20260112T191511Z
UID:5850-1715709600-1715718600@cdaboerne.org
SUMMARY:CDA Court Meeting
DESCRIPTION:Link to bring food for the meeting
URL:https://cdaboerne.org/event/cda-court-meeting/2024-05-14/
LOCATION:St. Anthony’s @ UTR\, 416 W. Highland\, Boerne\, TX\, 78006\, United States
ORGANIZER;CN="Janice Almeida%2C Regent":MAILTO:janice.maggie1@gmail.com
END:VEVENT
BEGIN:VEVENT
DTSTART;TZID=America/Chicago:20240417T183000
DTEND;TZID=America/Chicago:20240417T200000
DTSTAMP:20260424T150814
CREATED:20240410T104543Z
LAST-MODIFIED:20240410T104715Z
UID:8279-1713378600-1713384000@cdaboerne.org
SUMMARY:Newcomer Welcome
DESCRIPTION:Please join us for fun and making our newest members feel welcome \n  \nApril 2024 Newcomer invite (1)
URL:https://cdaboerne.org/event/newcomer-welcome/
LOCATION:St. Anthony’s @ UTR\, 416 W. Highland\, Boerne\, TX\, 78006\, United States
END:VEVENT
BEGIN:VEVENT
DTSTART;TZID=America/Chicago:20240207T190000
DTEND;TZID=America/Chicago:20240207T210000
DTSTAMP:20260424T150814
CREATED:20231231T210320Z
LAST-MODIFIED:20231231T210320Z
UID:6730-1707332400-1707339600@cdaboerne.org
SUMMARY:CDA Annual Bunco Party
DESCRIPTION:Don’t tell me it’s that time again – get ready ladies!! Bring new members and interested parties to the party – they will get to know us in a very different way!    – More details to follow!!
URL:https://cdaboerne.org/event/cda-annual-bunco-party/
LOCATION:St. Anthony’s @ UTR\, 416 W. Highland\, Boerne\, TX\, 78006\, United States
END:VEVENT
BEGIN:VEVENT
DTSTART;TZID=America/Chicago:20240124T190000
DTEND;TZID=America/Chicago:20240124T203000
DTSTAMP:20260424T150814
CREATED:20231231T073744Z
LAST-MODIFIED:20231231T073751Z
UID:6679-1706122800-1706128200@cdaboerne.org
SUMMARY:Newcomer's Welcome
DESCRIPTION:Please join us in making our newest members feel welcome.   RSVP to CDA Mailbox\, no later than 1/10/24  \nFor current members\, please bring your gorgeous smiles and if you are so inclined an appetizer to share. \nNewest members (over last 3 months) – your smile and presence is all we need.
URL:https://cdaboerne.org/event/newcomers-welcome/
LOCATION:St. Anthony’s @ UTR\, 416 W. Highland\, Boerne\, TX\, 78006\, United States
END:VEVENT
BEGIN:VEVENT
DTSTART;TZID=America/Chicago:20231022T150000
DTEND;TZID=America/Chicago:20231022T170000
DTSTAMP:20260424T150814
CREATED:20231016T204731Z
LAST-MODIFIED:20231016T204731Z
UID:6101-1697986800-1697994000@cdaboerne.org
SUMMARY:Baby Shower for Keilyn Guevara
DESCRIPTION:Come celebrate with our new “Mom to be” – here is the Sign Up Genius to RSVP for the event \nRSVP for Baby Shower \nCDA is purchasing the large gift and we are free to bring smaller items\, if we desire.  She is registered at Walmart – just go to Walmart website\, click on registry enter \nHer name:  Keilyn Guevara \nState:  Texas \nand look for the one listed as Keilyn Guevara and Larisa Guevara \nhttp://walmart.com
URL:https://cdaboerne.org/event/baby-shower-for-keilyn-guevara/
LOCATION:St. Anthony’s @ UTR\, 416 W. Highland\, Boerne\, TX\, 78006\, United States
END:VEVENT
BEGIN:VEVENT
DTSTART;TZID=America/Chicago:20231010T180000
DTEND;TZID=America/Chicago:20231010T203000
DTSTAMP:20260424T150814
CREATED:20230918T124912Z
LAST-MODIFIED:20260112T191510Z
UID:5842-1696960800-1696969800@cdaboerne.org
SUMMARY:CDA Court Meeting
DESCRIPTION:Link to bring food for the meeting
URL:https://cdaboerne.org/event/cda-court-meeting/2023-10-10/
LOCATION:St. Anthony’s @ UTR\, 416 W. Highland\, Boerne\, TX\, 78006\, United States
ORGANIZER;CN="Janice Almeida%2C Regent":MAILTO:janice.maggie1@gmail.com
END:VEVENT
BEGIN:VEVENT
DTSTART;TZID=America/Chicago:20230927T190000
DTEND;TZID=America/Chicago:20230927T210000
DTSTAMP:20260424T150814
CREATED:20230821T090509Z
LAST-MODIFIED:20230917T193117Z
UID:5584-1695841200-1695848400@cdaboerne.org
SUMMARY:CDA New Member Social
DESCRIPTION:This is our effort to make new members feel welcome and help us all to get to know each other better.  So come one\, come all! \n  \nNewcomer Welcome Invitation v2
URL:https://cdaboerne.org/event/cda-new-member-social/
LOCATION:St. Anthony’s @ UTR\, 416 W. Highland\, Boerne\, TX\, 78006\, United States
END:VEVENT
BEGIN:VEVENT
DTSTART;TZID=UTC:20230816T180000
DTEND;TZID=UTC:20230816T203000
DTSTAMP:20260424T150814
CREATED:20220615T020018Z
LAST-MODIFIED:20230811T160840Z
UID:1956-1692208800-1692217800@cdaboerne.org
SUMMARY:CDA Meeting
DESCRIPTION:
URL:https://cdaboerne.org/event/cda-meeting-2023-08-08/
LOCATION:St. Anthony’s @ UTR\, 416 W. Highland\, Boerne\, TX\, 78006\, United States
END:VEVENT
BEGIN:VEVENT
DTSTART;TZID=America/Chicago:20230805T110000
DTEND;TZID=America/Chicago:20230805T160000
DTSTAMP:20260424T150814
CREATED:20230523T152248Z
LAST-MODIFIED:20230523T152248Z
UID:4830-1691233200-1691251200@cdaboerne.org
SUMMARY:Family Fun Fest
DESCRIPTION:More details to follow – see the flyer on the CDA website
URL:https://cdaboerne.org/event/family-fun-fest/
LOCATION:St. Anthony’s @ UTR\, 416 W. Highland\, Boerne\, TX\, 78006\, United States
END:VEVENT
BEGIN:VEVENT
DTSTART;TZID=UTC:20230215T180000
DTEND;TZID=UTC:20230215T203000
DTSTAMP:20260424T150814
CREATED:20220615T020018Z
LAST-MODIFIED:20230112T112546Z
UID:1952-1676484000-1676493000@cdaboerne.org
SUMMARY:CDA Meeting
DESCRIPTION:
URL:https://cdaboerne.org/event/cda-meeting-2023-02-14/
LOCATION:St. Anthony’s @ UTR\, 416 W. Highland\, Boerne\, TX\, 78006\, United States
END:VEVENT
BEGIN:VEVENT
DTSTART;TZID=UTC:20221024T170000
DTEND;TZID=UTC:20221024T190000
DTSTAMP:20260424T150814
CREATED:20220930T175337Z
LAST-MODIFIED:20221121T181315Z
UID:1806-1666630800-1666638000@cdaboerne.org
SUMMARY:CDA Officer's Meeting
DESCRIPTION:
URL:https://cdaboerne.org/event/cda-officers-meeting/2022-10-24/
LOCATION:St. Anthony’s @ UTR\, 416 W. Highland\, Boerne\, TX\, 78006\, United States
END:VEVENT
BEGIN:VEVENT
DTSTART;TZID=UTC:20221011T180000
DTEND;TZID=UTC:20221011T203000
DTSTAMP:20260424T150814
CREATED:20220615T020018Z
LAST-MODIFIED:20221004T001234Z
UID:920-1665511200-1665520200@cdaboerne.org
SUMMARY:CDA Meeting
DESCRIPTION:
URL:https://cdaboerne.org/event/cda-meeting/2022-10-11/
LOCATION:St. Anthony’s @ UTR\, 416 W. Highland\, Boerne\, TX\, 78006\, United States
END:VEVENT
END:VCALENDAR