BEGIN:VCALENDAR
VERSION:2.0
PRODID:-//CDA Court 2690 - ECPv6.15.20//NONSGML v1.0//EN
CALSCALE:GREGORIAN
METHOD:PUBLISH
X-WR-CALNAME:CDA Court 2690
X-ORIGINAL-URL:https://cdaboerne.org
X-WR-CALDESC:Events for CDA Court 2690
REFRESH-INTERVAL;VALUE=DURATION:PT1H
X-Robots-Tag:noindex
X-PUBLISHED-TTL:PT1H
BEGIN:VTIMEZONE
TZID:America/Chicago
BEGIN:DAYLIGHT
TZOFFSETFROM:-0600
TZOFFSETTO:-0500
TZNAME:CDT
DTSTART:20230312T080000
END:DAYLIGHT
BEGIN:STANDARD
TZOFFSETFROM:-0500
TZOFFSETTO:-0600
TZNAME:CST
DTSTART:20231105T070000
END:STANDARD
BEGIN:DAYLIGHT
TZOFFSETFROM:-0600
TZOFFSETTO:-0500
TZNAME:CDT
DTSTART:20240310T080000
END:DAYLIGHT
BEGIN:STANDARD
TZOFFSETFROM:-0500
TZOFFSETTO:-0600
TZNAME:CST
DTSTART:20241103T070000
END:STANDARD
BEGIN:DAYLIGHT
TZOFFSETFROM:-0600
TZOFFSETTO:-0500
TZNAME:CDT
DTSTART:20250309T080000
END:DAYLIGHT
BEGIN:STANDARD
TZOFFSETFROM:-0500
TZOFFSETTO:-0600
TZNAME:CST
DTSTART:20251102T070000
END:STANDARD
END:VTIMEZONE
BEGIN:VEVENT
DTSTART;TZID=America/Chicago:20241119T183000
DTEND;TZID=America/Chicago:20241119T203000
DTSTAMP:20260424T202151
CREATED:20241115T113350Z
LAST-MODIFIED:20241115T113350Z
UID:10938-1732041000-1732048200@cdaboerne.org
SUMMARY:Epiphany Party Committee
DESCRIPTION:Come join us in the planning of this event
URL:https://cdaboerne.org/event/epiphany-party-committee/
LOCATION:FLC Room 161
ORGANIZER;CN="Kimberley Goodman%2C Vice Regent":MAILTO:kimberleygoodman@icloud.com
END:VEVENT
BEGIN:VEVENT
DTSTART;TZID=America/Chicago:20240516T120000
DTEND;TZID=America/Chicago:20240516T140000
DTSTAMP:20260424T202151
CREATED:20240516T001908Z
LAST-MODIFIED:20240516T001908Z
UID:8565-1715860800-1715868000@cdaboerne.org
SUMMARY:Planning committee - Clergy Appreciation Dinner
DESCRIPTION:We will meet on Thursday\, May 16th @ 12noon in FLC Room 161 \nBring your ideas and suggestions
URL:https://cdaboerne.org/event/planning-committee-clergy-appreciation-dinner/
LOCATION:FLC Room 161
END:VEVENT
END:VCALENDAR