BEGIN:VCALENDAR
VERSION:2.0
PRODID:-//CDA Court 2690 - ECPv6.15.20//NONSGML v1.0//EN
CALSCALE:GREGORIAN
METHOD:PUBLISH
X-WR-CALNAME:CDA Court 2690
X-ORIGINAL-URL:https://cdaboerne.org
X-WR-CALDESC:Events for CDA Court 2690
REFRESH-INTERVAL;VALUE=DURATION:PT1H
X-Robots-Tag:noindex
X-PUBLISHED-TTL:PT1H
BEGIN:VTIMEZONE
TZID:UTC
BEGIN:STANDARD
TZOFFSETFROM:+0000
TZOFFSETTO:+0000
TZNAME:UTC
DTSTART:20220101T000000
END:STANDARD
END:VTIMEZONE
BEGIN:VTIMEZONE
TZID:America/Chicago
BEGIN:DAYLIGHT
TZOFFSETFROM:-0600
TZOFFSETTO:-0500
TZNAME:CDT
DTSTART:20220313T080000
END:DAYLIGHT
BEGIN:STANDARD
TZOFFSETFROM:-0500
TZOFFSETTO:-0600
TZNAME:CST
DTSTART:20221106T070000
END:STANDARD
BEGIN:DAYLIGHT
TZOFFSETFROM:-0600
TZOFFSETTO:-0500
TZNAME:CDT
DTSTART:20230312T080000
END:DAYLIGHT
BEGIN:STANDARD
TZOFFSETFROM:-0500
TZOFFSETTO:-0600
TZNAME:CST
DTSTART:20231105T070000
END:STANDARD
BEGIN:DAYLIGHT
TZOFFSETFROM:-0600
TZOFFSETTO:-0500
TZNAME:CDT
DTSTART:20240310T080000
END:DAYLIGHT
BEGIN:STANDARD
TZOFFSETFROM:-0500
TZOFFSETTO:-0600
TZNAME:CST
DTSTART:20241103T070000
END:STANDARD
END:VTIMEZONE
BEGIN:VEVENT
DTSTART;TZID=UTC:20230613T183000
DTEND;TZID=UTC:20230613T203000
DTSTAMP:20260424T185441
CREATED:20220613T233018Z
LAST-MODIFIED:20230508T121339Z
UID:1955-1686681000-1686688200@cdaboerne.org
SUMMARY:Clergy Appreciation Dinner
DESCRIPTION:
URL:https://cdaboerne.org/event/cda-meeting-2023-06-13/
LOCATION:Clergy Appreciation Dinner\, Cana Ballroom\, TX\, 78006\, United States
ORGANIZER;CN="Nancy Roberts":MAILTO:nancyroberts11@aol.com
END:VEVENT
BEGIN:VEVENT
DTSTART;TZID=America/Chicago:20230601T100000
DTEND;TZID=America/Chicago:20230601T113000
DTSTAMP:20260424T185441
CREATED:20230525T122131Z
LAST-MODIFIED:20230525T122131Z
UID:4817-1685613600-1685619000@cdaboerne.org
SUMMARY:Clergy Appreciation Dinner - Planning session
DESCRIPTION:Meet in FLC #160
URL:https://cdaboerne.org/event/clergy-appreciation-dinner-planning-session/
LOCATION:Clergy Appreciation Dinner\, Cana Ballroom\, TX\, 78006\, United States
ORGANIZER;CN="Nancy Roberts":MAILTO:nancyroberts11@aol.com
END:VEVENT
BEGIN:VEVENT
DTSTART;TZID=America/Chicago:20230502T100000
DTEND;TZID=America/Chicago:20230502T113000
DTSTAMP:20260424T185441
CREATED:20230420T100150Z
LAST-MODIFIED:20230420T100432Z
UID:4580-1683021600-1683027000@cdaboerne.org
SUMMARY:Clergy Appreciation Dinner
DESCRIPTION:Our first planning session will be in Room 160\, FLC.
URL:https://cdaboerne.org/event/clergy-appreciation-dinner/
LOCATION:Clergy Appreciation Dinner\, Cana Ballroom\, TX\, 78006\, United States
ORGANIZER;CN="Suzelle Yanes":MAILTO:sdyanes1@hotmail.com
END:VEVENT
END:VCALENDAR