BEGIN:VCALENDAR
VERSION:2.0
PRODID:-//CDA Court 2690 - ECPv6.15.20//NONSGML v1.0//EN
CALSCALE:GREGORIAN
METHOD:PUBLISH
X-WR-CALNAME:CDA Court 2690
X-ORIGINAL-URL:https://cdaboerne.org
X-WR-CALDESC:Events for CDA Court 2690
REFRESH-INTERVAL;VALUE=DURATION:PT1H
X-Robots-Tag:noindex
X-PUBLISHED-TTL:PT1H
BEGIN:VTIMEZONE
TZID:America/Chicago
BEGIN:DAYLIGHT
TZOFFSETFROM:-0600
TZOFFSETTO:-0500
TZNAME:CDT
DTSTART:20230312T080000
END:DAYLIGHT
BEGIN:STANDARD
TZOFFSETFROM:-0500
TZOFFSETTO:-0600
TZNAME:CST
DTSTART:20231105T070000
END:STANDARD
BEGIN:DAYLIGHT
TZOFFSETFROM:-0600
TZOFFSETTO:-0500
TZNAME:CDT
DTSTART:20240310T080000
END:DAYLIGHT
BEGIN:STANDARD
TZOFFSETFROM:-0500
TZOFFSETTO:-0600
TZNAME:CST
DTSTART:20241103T070000
END:STANDARD
BEGIN:DAYLIGHT
TZOFFSETFROM:-0600
TZOFFSETTO:-0500
TZNAME:CDT
DTSTART:20250309T080000
END:DAYLIGHT
BEGIN:STANDARD
TZOFFSETFROM:-0500
TZOFFSETTO:-0600
TZNAME:CST
DTSTART:20251102T070000
END:STANDARD
END:VTIMEZONE
BEGIN:VEVENT
DTSTART;TZID=America/Chicago:20241103T140000
DTEND;TZID=America/Chicago:20241103T143000
DTSTAMP:20260424T184213
CREATED:20241011T114558Z
LAST-MODIFIED:20241107T105709Z
UID:10268-1730642400-1730644200@cdaboerne.org
SUMMARY:Sell Poinsettias and ornaments after all masses
DESCRIPTION:
URL:https://cdaboerne.org/event/sell-poinsettias-3/2024-11-03/
LOCATION:St. Peter the Apostle Church\, 202 W. Kronkosky\, Boerne\, TX\, 78006\, United States
ORGANIZER;CN="Janice Almeida%2C Regent":MAILTO:janice.maggie1@gmail.com
END:VEVENT
BEGIN:VEVENT
DTSTART;TZID=America/Chicago:20241103T120000
DTEND;TZID=America/Chicago:20241103T123000
DTSTAMP:20260424T184213
CREATED:20241011T114338Z
LAST-MODIFIED:20241107T102606Z
UID:10262-1730635200-1730637000@cdaboerne.org
SUMMARY:Sell Poinsettias and ornaments after all masses
DESCRIPTION:
URL:https://cdaboerne.org/event/sell-poinsettias-2/2024-11-03/
LOCATION:St. Peter the Apostle Church\, 202 W. Kronkosky\, Boerne\, TX\, 78006\, United States
ORGANIZER;CN="Janice Almeida%2C Regent":MAILTO:janice.maggie1@gmail.com
END:VEVENT
BEGIN:VEVENT
DTSTART;TZID=America/Chicago:20241102T183000
DTEND;TZID=America/Chicago:20241102T190000
DTSTAMP:20260424T184213
CREATED:20241011T103224Z
LAST-MODIFIED:20241107T102845Z
UID:9972-1730572200-1730574000@cdaboerne.org
SUMMARY:Sell  Poinsettias and ornaments after all masses
DESCRIPTION:Sell poinsettias and ornaments after all masses
URL:https://cdaboerne.org/event/pre-sell-ornaments/2024-11-02/
LOCATION:St. Peter the Apostle Church\, 202 W. Kronkosky\, Boerne\, TX\, 78006\, United States
ORGANIZER;CN="Janice Almeida%2C Regent":MAILTO:janice.maggie1@gmail.com
END:VEVENT
BEGIN:VEVENT
DTSTART;TZID=America/Chicago:20241028T170000
DTEND;TZID=America/Chicago:20241028T190000
DTSTAMP:20260424T184213
CREATED:20240916T094158Z
LAST-MODIFIED:20240916T094158Z
UID:9799-1730134800-1730142000@cdaboerne.org
SUMMARY:CDA Officer Meeting and Financial Review
DESCRIPTION:FLC #160 & 161
URL:https://cdaboerne.org/event/cda-officer-meeting-and-financial-review-2/
LOCATION:FLC Room 160\, 202 W. Kronkosky\, Boerne\, TX\, 78006\, United States
ORGANIZER;CN="Janice Almeida%2C Regent":MAILTO:janice.maggie1@gmail.com
END:VEVENT
BEGIN:VEVENT
DTSTART;TZID=America/Chicago:20241027T140000
DTEND;TZID=America/Chicago:20241027T163000
DTSTAMP:20260424T184213
CREATED:20241010T171253Z
LAST-MODIFIED:20241010T171253Z
UID:9918-1730037600-1730046600@cdaboerne.org
SUMMARY:Trunk or Treat
DESCRIPTION:Parking lot \nSign up to help 
URL:https://cdaboerne.org/event/trunk-or-treat-3/
LOCATION:St. Peter the Apostle Church\, 202 W. Kronkosky\, Boerne\, TX\, 78006\, United States
ORGANIZER;CN="Janice Almeida%2C Regent":MAILTO:janice.maggie1@gmail.com
END:VEVENT
BEGIN:VEVENT
DTSTART;TZID=America/Chicago:20241025T120000
DTEND;TZID=America/Chicago:20241025T170000
DTSTAMP:20260424T184213
CREATED:20241010T123729Z
LAST-MODIFIED:20241010T124746Z
UID:9873-1729857600-1729875600@cdaboerne.org
SUMMARY:Deliver meal to Kolbe Ministry
DESCRIPTION:Meet at Cana kitchen \nSign up to help 
URL:https://cdaboerne.org/event/deliver-meal-to-kolbe-ministry/
LOCATION:Kolbe Ministry
ORGANIZER;CN="Janice Almeida%2C Regent":MAILTO:janice.maggie1@gmail.com
END:VEVENT
BEGIN:VEVENT
DTSTART;TZID=America/Chicago:20241025T100000
DTEND;TZID=America/Chicago:20241025T120000
DTSTAMP:20260424T184213
CREATED:20241010T123500Z
LAST-MODIFIED:20241010T124705Z
UID:9867-1729850400-1729857600@cdaboerne.org
SUMMARY:Meal prep for Kolbe Ministry
DESCRIPTION:Meet at Cana Kitchen \nSign up to help 
URL:https://cdaboerne.org/event/meal-prep-for-kolbe-ministry/
LOCATION:Kolbe Ministry
ORGANIZER;CN="Janice Almeida%2C Regent":MAILTO:janice.maggie1@gmail.com
END:VEVENT
BEGIN:VEVENT
DTSTART;TZID=America/Chicago:20241024T110000
DTEND;TZID=America/Chicago:20241024T123000
DTSTAMP:20260424T184213
CREATED:20241010T123311Z
LAST-MODIFIED:20241010T124530Z
UID:9865-1729767600-1729773000@cdaboerne.org
SUMMARY:Shop for meal for Kolbe Ministry
DESCRIPTION:Shop for meal – meet at church office \nSign up to help 
URL:https://cdaboerne.org/event/shop-for-meal-for-kolbe-ministry/
ORGANIZER;CN="Janice Almeida%2C Regent":MAILTO:janice.maggie1@gmail.com
END:VEVENT
BEGIN:VEVENT
DTSTART;TZID=America/Chicago:20241023T180000
DTEND;TZID=America/Chicago:20241023T190000
DTSTAMP:20260424T184213
CREATED:20240906T132848Z
LAST-MODIFIED:20240911T184348Z
UID:9693-1729706400-1729710000@cdaboerne.org
SUMMARY:First committee meeting to plan Anniversary Celebration - FLC# 137
DESCRIPTION:Please consider joining this committee \nSignup to help
URL:https://cdaboerne.org/event/first-committee-meeting-to-plan-anniversary-celebration/
ORGANIZER;CN="Janice Almeida%2C Regent":MAILTO:janice.maggie1@gmail.com
END:VEVENT
BEGIN:VEVENT
DTSTART;TZID=America/Chicago:20241023T090000
DTEND;TZID=America/Chicago:20241023T170000
DTSTAMP:20260424T184213
CREATED:20241010T123039Z
LAST-MODIFIED:20241010T124621Z
UID:9863-1729674000-1729702800@cdaboerne.org
SUMMARY:Turn in letters for Kolbe Ministry
DESCRIPTION:Turn letters into Church office \nSign up to help 
URL:https://cdaboerne.org/event/turn-in-letters-for-kolbe-ministry/
ORGANIZER;CN="Janice Almeida%2C Regent":MAILTO:janice.maggie1@gmail.com
END:VEVENT
BEGIN:VEVENT
DTSTART;TZID=America/Chicago:20241020T080000
DTEND;TZID=America/Chicago:20241020T110000
DTSTAMP:20260424T184213
CREATED:20240821T190337Z
LAST-MODIFIED:20240821T190337Z
UID:9582-1729411200-1729422000@cdaboerne.org
SUMMARY:CDA Sunday
DESCRIPTION:Join us in celebrating CDA Sunday \nIn mass and hosting Hospitality after the 9 a.m. Mass \nLink to sign up to help 
URL:https://cdaboerne.org/event/cda-sunday/
LOCATION:St. Peter the Apostle Church\, 202 W. Kronkosky\, Boerne\, TX\, 78006\, United States
ORGANIZER;CN="Janice Almeida%2C Regent":MAILTO:janice.maggie1@gmail.com
END:VEVENT
BEGIN:VEVENT
DTSTART;TZID=America/Chicago:20241015T084500
DTEND;TZID=America/Chicago:20241015T110000
DTSTAMP:20260424T184213
CREATED:20241010T124004Z
LAST-MODIFIED:20241010T124408Z
UID:9876-1728981900-1728990000@cdaboerne.org
SUMMARY:Genesis Conference
DESCRIPTION:Gather in Cana Kitchen – serve a Light Breakfast and set up drinks \nSign up to help
URL:https://cdaboerne.org/event/genesis-conference/
LOCATION:Genesis Conference
ORGANIZER;CN="Janice Almeida%2C Regent":MAILTO:janice.maggie1@gmail.com
END:VEVENT
BEGIN:VEVENT
DTSTART;TZID=America/Chicago:20241008T180000
DTEND;TZID=America/Chicago:20241008T203000
DTSTAMP:20260424T184213
CREATED:20230918T124912Z
LAST-MODIFIED:20260112T191511Z
UID:5855-1728410400-1728419400@cdaboerne.org
SUMMARY:CDA Court Meeting
DESCRIPTION:Link to bring food for the meeting
URL:https://cdaboerne.org/event/cda-court-meeting/2024-10-08/
LOCATION:St. Anthony’s @ UTR\, 416 W. Highland\, Boerne\, TX\, 78006\, United States
ORGANIZER;CN="Janice Almeida%2C Regent":MAILTO:janice.maggie1@gmail.com
END:VEVENT
BEGIN:VEVENT
DTSTART;TZID=America/Chicago:20240917T113000
DTEND;TZID=America/Chicago:20240917T130000
DTSTAMP:20260424T184213
CREATED:20240821T185243Z
LAST-MODIFIED:20240821T185243Z
UID:9544-1726572600-1726578000@cdaboerne.org
SUMMARY:HCPCC Luncheon
DESCRIPTION:Join us at lunch at the CDA table and find other ways to help this great cause \nLunch 11:30 – 1:00 \nMust RSVP by 9/3/24 \nOther ways to help  \nIt’s Gala time and your help is needed to make this year another success. PLEASE NOTE OF THE DIFFERENT DATES offered.  1) Wednesday\, 9/11 – Meet at HCPCC\, Hodo room to prepare silverware\, baby calendars\, and donation bags for the gala. 2) Monday\, 9/16 – prepare the dining room tables\, coffee station\, and registration area for the gala. 3) Tuesday\, 9/17 – greeters needed to take guests to their table at lunch and dinner.  4) Tuesday\, 9/17 –  help turn the room over after lunch to set up for dinner. \n  \n 
URL:https://cdaboerne.org/event/hcpcc-luncheon-2/
LOCATION:Cana Ballroom\, 202 W. Kronkosky\, Boerne\, TX\, 78006\, United States
ORGANIZER;CN="Janice Almeida%2C Regent":MAILTO:janice.maggie1@gmail.com
END:VEVENT
BEGIN:VEVENT
DTSTART;TZID=America/Chicago:20240915T180000
DTEND;TZID=America/Chicago:20240915T183000
DTSTAMP:20260424T184213
CREATED:20240822T231428Z
LAST-MODIFIED:20240822T231428Z
UID:9622-1726423200-1726425000@cdaboerne.org
SUMMARY:Sell tickets after Mass for Burgers\, Baskets & Bingo
DESCRIPTION:Help us sell tickets after mass \nJust go to Volunteer tab and click on the link to sign up
URL:https://cdaboerne.org/event/sell-tickets-after-mass-for-burgers-baskets-bingo/2024-09-15/4/
LOCATION:St. Peter the Apostle Church\, 202 W. Kronkosky\, Boerne\, TX\, 78006\, United States
ORGANIZER;CN="Janice Almeida%2C Regent":MAILTO:janice.maggie1@gmail.com
END:VEVENT
BEGIN:VEVENT
DTSTART;TZID=America/Chicago:20240915T140000
DTEND;TZID=America/Chicago:20240915T143000
DTSTAMP:20260424T184213
CREATED:20240822T231428Z
LAST-MODIFIED:20240822T231428Z
UID:9621-1726408800-1726410600@cdaboerne.org
SUMMARY:Sell tickets after Mass for Burgers\, Baskets & Bingo
DESCRIPTION:Help us sell tickets after mass \nJust go to Volunteer tab and click on the link to sign up
URL:https://cdaboerne.org/event/sell-tickets-after-mass-for-burgers-baskets-bingo/2024-09-15/3/
LOCATION:St. Peter the Apostle Church\, 202 W. Kronkosky\, Boerne\, TX\, 78006\, United States
ORGANIZER;CN="Janice Almeida%2C Regent":MAILTO:janice.maggie1@gmail.com
END:VEVENT
BEGIN:VEVENT
DTSTART;TZID=America/Chicago:20240915T120000
DTEND;TZID=America/Chicago:20240915T123000
DTSTAMP:20260424T184213
CREATED:20240822T231428Z
LAST-MODIFIED:20240822T231428Z
UID:9620-1726401600-1726403400@cdaboerne.org
SUMMARY:Sell tickets after Mass for Burgers\, Baskets & Bingo
DESCRIPTION:Help us sell tickets after mass \nJust go to Volunteer tab and click on the link to sign up
URL:https://cdaboerne.org/event/sell-tickets-after-mass-for-burgers-baskets-bingo/2024-09-15/2/
LOCATION:St. Peter the Apostle Church\, 202 W. Kronkosky\, Boerne\, TX\, 78006\, United States
ORGANIZER;CN="Janice Almeida%2C Regent":MAILTO:janice.maggie1@gmail.com
END:VEVENT
BEGIN:VEVENT
DTSTART;TZID=America/Chicago:20240915T100000
DTEND;TZID=America/Chicago:20240915T103000
DTSTAMP:20260424T184213
CREATED:20240822T231428Z
LAST-MODIFIED:20240822T231428Z
UID:9619-1726394400-1726396200@cdaboerne.org
SUMMARY:Sell tickets after Mass for Burgers\, Baskets & Bingo
DESCRIPTION:Help us sell tickets after mass \nJust go to Volunteer tab and click on the link to sign up
URL:https://cdaboerne.org/event/sell-tickets-after-mass-for-burgers-baskets-bingo/2024-09-15/
LOCATION:St. Peter the Apostle Church\, 202 W. Kronkosky\, Boerne\, TX\, 78006\, United States
ORGANIZER;CN="Janice Almeida%2C Regent":MAILTO:janice.maggie1@gmail.com
END:VEVENT
BEGIN:VEVENT
DTSTART;TZID=America/Chicago:20240914T183000
DTEND;TZID=America/Chicago:20240914T190000
DTSTAMP:20260424T184213
CREATED:20240822T231428Z
LAST-MODIFIED:20240822T231428Z
UID:9618-1726338600-1726340400@cdaboerne.org
SUMMARY:Sell tickets after Mass for Burgers\, Baskets & Bingo
DESCRIPTION:Help us sell tickets after mass \nJust go to Volunteer tab and click on the link to sign up
URL:https://cdaboerne.org/event/sell-tickets-after-mass-for-burgers-baskets-bingo/2024-09-14/
LOCATION:St. Peter the Apostle Church\, 202 W. Kronkosky\, Boerne\, TX\, 78006\, United States
ORGANIZER;CN="Janice Almeida%2C Regent":MAILTO:janice.maggie1@gmail.com
END:VEVENT
BEGIN:VEVENT
DTSTART;TZID=America/Chicago:20240913T123000
DTEND;TZID=America/Chicago:20240913T150000
DTSTAMP:20260424T184213
CREATED:20240904T202821Z
LAST-MODIFIED:20240904T203248Z
UID:9682-1726230600-1726239600@cdaboerne.org
SUMMARY:School Groundbreaking Festivities
DESCRIPTION:Hope you can join in the fun & be of service \nLink to Signup Genius 
URL:https://cdaboerne.org/event/school-groundbreaking-festivities/
LOCATION:St. Peter the Apostle Church\, 202 W. Kronkosky\, Boerne\, TX\, 78006\, United States
ORGANIZER;CN="Janice Almeida%2C Regent":MAILTO:janice.maggie1@gmail.com
END:VEVENT
BEGIN:VEVENT
DTSTART;TZID=America/Chicago:20240904T163000
DTEND;TZID=America/Chicago:20240904T183000
DTSTAMP:20260424T184213
CREATED:20240805T174243Z
LAST-MODIFIED:20240821T184740Z
UID:9294-1725467400-1725474600@cdaboerne.org
SUMMARY:Faith Formation Kick-off
DESCRIPTION:Dear Catholic Daughters and Knights\,\n\nIt’s that time of year again where the Faith Formation team counts on your help with our Faith Formation Kick Off! In the past\, the Knights have supported us by cooking the hotdogs\, wrapping and delivering them to the kitchenette where the CDA ladies help serve. The Daughters set up\, serve and clean up.\n The Kick Off is scheduled for Wednesday\, September 4th\, 2024 at 5:30pm.  We start in the church with Adoration for 25 minutes and then have dinner in the courtyard immediately following. We expect 200 people. We will have a more accurate count after the invite goes out. All food will be purchased by us and there will be no cost to CDA or KOC.\n\nCDA:\n6 ladies to help serve/clean up\nArrive by 4:30 to set up (tablecloths\, make lemonade\, set cookies\,water\,condiments chips\, etc. )\nServe hots\, chips\, cookies\nClean up (leftover chips and cookies can go to Nursery)\n\nLink to help with the event
URL:https://cdaboerne.org/event/faith-formation-kick-off/
LOCATION:Faith Formation Kick-off
ORGANIZER;CN="Janice Almeida%2C Regent":MAILTO:janice.maggie1@gmail.com
END:VEVENT
BEGIN:VEVENT
DTSTART;TZID=America/Chicago:20240818T180000
DTEND;TZID=America/Chicago:20240818T183000
DTSTAMP:20260424T184213
CREATED:20240805T173501Z
LAST-MODIFIED:20240809T114821Z
UID:9290-1724004000-1724005800@cdaboerne.org
SUMMARY:Blessings in a Backpack
DESCRIPTION:Please join us in collecting donations for Blessings in a Backpack after all masses \n  \nSign up to help 
URL:https://cdaboerne.org/event/blessings-in-a-backpack-5/2024-08-18/
LOCATION:St. Peter the Apostle Church\, 202 W. Kronkosky\, Boerne\, TX\, 78006\, United States
ORGANIZER;CN="Janice Almeida%2C Regent":MAILTO:janice.maggie1@gmail.com
END:VEVENT
BEGIN:VEVENT
DTSTART;TZID=America/Chicago:20240818T140000
DTEND;TZID=America/Chicago:20240818T143000
DTSTAMP:20260424T184213
CREATED:20240805T173418Z
LAST-MODIFIED:20240809T114449Z
UID:9288-1723989600-1723991400@cdaboerne.org
SUMMARY:Blessings in a Backpack
DESCRIPTION:Please join us in collecting donations for Blessings in a Backpack after all masses \n  \nSign up to help
URL:https://cdaboerne.org/event/blessings-in-a-backpack-4/2024-08-18/
LOCATION:St. Peter the Apostle Church\, 202 W. Kronkosky\, Boerne\, TX\, 78006\, United States
ORGANIZER;CN="Janice Almeida%2C Regent":MAILTO:janice.maggie1@gmail.com
END:VEVENT
BEGIN:VEVENT
DTSTART;TZID=America/Chicago:20240818T120000
DTEND;TZID=America/Chicago:20240818T123000
DTSTAMP:20260424T184213
CREATED:20240805T173302Z
LAST-MODIFIED:20240809T114406Z
UID:9286-1723982400-1723984200@cdaboerne.org
SUMMARY:Blessings in a Backpack
DESCRIPTION:Please join us in collecting donations for Blessings in a Backpack after all masses \n  \nSign up to help 
URL:https://cdaboerne.org/event/blessings-in-a-backpack-3/2024-08-18/
LOCATION:St. Peter the Apostle Church\, 202 W. Kronkosky\, Boerne\, TX\, 78006\, United States
ORGANIZER;CN="Janice Almeida%2C Regent":MAILTO:janice.maggie1@gmail.com
END:VEVENT
BEGIN:VEVENT
DTSTART;TZID=America/Chicago:20240818T100000
DTEND;TZID=America/Chicago:20240818T103000
DTSTAMP:20260424T184213
CREATED:20240805T170209Z
LAST-MODIFIED:20240809T114202Z
UID:9275-1723975200-1723977000@cdaboerne.org
SUMMARY:Blessings in a Backpack
DESCRIPTION:Please join us in collecting donations for Blessings in a Backpack after all masses \n  \nSign up to help 
URL:https://cdaboerne.org/event/blessings-in-a-backpack-2/2024-08-18/
LOCATION:St. Peter the Apostle Church\, 202 W. Kronkosky\, Boerne\, TX\, 78006\, United States
ORGANIZER;CN="Janice Almeida%2C Regent":MAILTO:janice.maggie1@gmail.com
END:VEVENT
BEGIN:VEVENT
DTSTART;TZID=America/Chicago:20240817T183000
DTEND;TZID=America/Chicago:20240817T190000
DTSTAMP:20260424T184213
CREATED:20240805T173804Z
LAST-MODIFIED:20240809T114112Z
UID:9292-1723919400-1723921200@cdaboerne.org
SUMMARY:Blessings in a Backpack
DESCRIPTION:Please join us in collecting donations for Blessings in a Backpack after all masses \n  \nSign up to help 
URL:https://cdaboerne.org/event/blessings-in-a-backpack-6/2024-08-17/
LOCATION:St. Peter the Apostle Church\, 202 W. Kronkosky\, Boerne\, TX\, 78006\, United States
ORGANIZER;CN="Janice Almeida%2C Regent":MAILTO:janice.maggie1@gmail.com
END:VEVENT
BEGIN:VEVENT
DTSTART;TZID=America/Chicago:20240813T180000
DTEND;TZID=America/Chicago:20240813T203000
DTSTAMP:20260424T184213
CREATED:20230918T124912Z
LAST-MODIFIED:20260112T191511Z
UID:5853-1723572000-1723581000@cdaboerne.org
SUMMARY:CDA Court Meeting
DESCRIPTION:Link to bring food for the meeting
URL:https://cdaboerne.org/event/cda-court-meeting/2024-08-13/
LOCATION:St. Anthony’s @ UTR\, 416 W. Highland\, Boerne\, TX\, 78006\, United States
ORGANIZER;CN="Janice Almeida%2C Regent":MAILTO:janice.maggie1@gmail.com
END:VEVENT
BEGIN:VEVENT
DTSTART;TZID=America/Chicago:20240805T080000
DTEND;TZID=America/Chicago:20240805T083000
DTSTAMP:20260424T184213
CREATED:20240805T171350Z
LAST-MODIFIED:20240805T171350Z
UID:9281-1722844800-1722846600@cdaboerne.org
SUMMARY:Test event
DESCRIPTION:
URL:https://cdaboerne.org/event/test-event/2024-08-05/
LOCATION:Blessings in a Backpack
ORGANIZER;CN="Janice Almeida%2C Regent":MAILTO:janice.maggie1@gmail.com
END:VEVENT
BEGIN:VEVENT
DTSTART;TZID=America/Chicago:20240717T183000
DTEND;TZID=America/Chicago:20240717T200000
DTSTAMP:20260424T184213
CREATED:20240704T114032Z
LAST-MODIFIED:20240717T103915Z
UID:8970-1721241000-1721246400@cdaboerne.org
SUMMARY:3rd Quarterly Newcomer Welcome
DESCRIPTION:Please plan on joining us on 7/17/24 at 6:30 p.m. – Family Life Center #153 \nInvite 
URL:https://cdaboerne.org/event/2nd-quarterly-newcomer-welcome/
LOCATION:St. Anthony’s @ UTR\, 416 W. Highland\, Boerne\, TX\, 78006\, United States
ORGANIZER;CN="Janice Almeida%2C Regent":MAILTO:janice.maggie1@gmail.com
END:VEVENT
BEGIN:VEVENT
DTSTART;TZID=America/Chicago:20240709T180000
DTEND;TZID=America/Chicago:20240709T203000
DTSTAMP:20260424T184213
CREATED:20230918T124912Z
LAST-MODIFIED:20260112T191511Z
UID:5852-1720548000-1720557000@cdaboerne.org
SUMMARY:CDA Court Meeting
DESCRIPTION:Link to bring food for the meeting
URL:https://cdaboerne.org/event/cda-court-meeting/2024-07-09/
LOCATION:St. Anthony’s @ UTR\, 416 W. Highland\, Boerne\, TX\, 78006\, United States
ORGANIZER;CN="Janice Almeida%2C Regent":MAILTO:janice.maggie1@gmail.com
END:VEVENT
END:VCALENDAR