BEGIN:VCALENDAR
VERSION:2.0
PRODID:-//CDA Court 2690 - ECPv6.15.20//NONSGML v1.0//EN
CALSCALE:GREGORIAN
METHOD:PUBLISH
X-WR-CALNAME:CDA Court 2690
X-ORIGINAL-URL:https://cdaboerne.org
X-WR-CALDESC:Events for CDA Court 2690
REFRESH-INTERVAL;VALUE=DURATION:PT1H
X-Robots-Tag:noindex
X-PUBLISHED-TTL:PT1H
BEGIN:VTIMEZONE
TZID:America/Chicago
BEGIN:DAYLIGHT
TZOFFSETFROM:-0600
TZOFFSETTO:-0500
TZNAME:CDT
DTSTART:20230312T080000
END:DAYLIGHT
BEGIN:STANDARD
TZOFFSETFROM:-0500
TZOFFSETTO:-0600
TZNAME:CST
DTSTART:20231105T070000
END:STANDARD
BEGIN:DAYLIGHT
TZOFFSETFROM:-0600
TZOFFSETTO:-0500
TZNAME:CDT
DTSTART:20240310T080000
END:DAYLIGHT
BEGIN:STANDARD
TZOFFSETFROM:-0500
TZOFFSETTO:-0600
TZNAME:CST
DTSTART:20241103T070000
END:STANDARD
BEGIN:DAYLIGHT
TZOFFSETFROM:-0600
TZOFFSETTO:-0500
TZNAME:CDT
DTSTART:20250309T080000
END:DAYLIGHT
BEGIN:STANDARD
TZOFFSETFROM:-0500
TZOFFSETTO:-0600
TZNAME:CST
DTSTART:20251102T070000
END:STANDARD
BEGIN:DAYLIGHT
TZOFFSETFROM:-0600
TZOFFSETTO:-0500
TZNAME:CDT
DTSTART:20260308T080000
END:DAYLIGHT
BEGIN:STANDARD
TZOFFSETFROM:-0500
TZOFFSETTO:-0600
TZNAME:CST
DTSTART:20261101T070000
END:STANDARD
END:VTIMEZONE
BEGIN:VEVENT
DTSTART;TZID=America/Chicago:20250215T183000
DTEND;TZID=America/Chicago:20250215T190000
DTSTAMP:20260424T193317
CREATED:20250203T134329Z
LAST-MODIFIED:20250203T134329Z
UID:11314-1739644200-1739646000@cdaboerne.org
SUMMARY:Sell tickets for Spaghetti Dinner
DESCRIPTION:See Volunteer Tab
URL:https://cdaboerne.org/event/sell-tickets-for-spaghetti-dinner-4/
END:VEVENT
BEGIN:VEVENT
DTSTART;TZID=America/Chicago:20250211T180000
DTEND;TZID=America/Chicago:20250211T203000
DTSTAMP:20260424T193317
CREATED:20230918T124912Z
LAST-MODIFIED:20260112T191512Z
UID:5859-1739296800-1739305800@cdaboerne.org
SUMMARY:CDA Court Meeting
DESCRIPTION:Link to bring food for the meeting
URL:https://cdaboerne.org/event/cda-court-meeting/2025-02-11/
LOCATION:St. Anthony’s @ UTR\, 416 W. Highland\, Boerne\, TX\, 78006\, United States
ORGANIZER;CN="Janice Almeida%2C Regent":MAILTO:janice.maggie1@gmail.com
END:VEVENT
BEGIN:VEVENT
DTSTART;TZID=America/Chicago:20250114T180000
DTEND;TZID=America/Chicago:20250114T203000
DTSTAMP:20260424T193317
CREATED:20230918T124912Z
LAST-MODIFIED:20260112T191512Z
UID:5858-1736877600-1736886600@cdaboerne.org
SUMMARY:CDA Court Meeting
DESCRIPTION:Link to bring food for the meeting
URL:https://cdaboerne.org/event/cda-court-meeting/2025-01-14/
LOCATION:St. Anthony’s @ UTR\, 416 W. Highland\, Boerne\, TX\, 78006\, United States
ORGANIZER;CN="Janice Almeida%2C Regent":MAILTO:janice.maggie1@gmail.com
END:VEVENT
BEGIN:VEVENT
DTSTART;TZID=America/Chicago:20241222T180000
DTEND;TZID=America/Chicago:20241222T183000
DTSTAMP:20260424T193317
CREATED:20241107T110934Z
LAST-MODIFIED:20241107T110934Z
UID:10808-1734890400-1734892200@cdaboerne.org
SUMMARY:Sell ornaments after all masses
DESCRIPTION:
URL:https://cdaboerne.org/event/sell-ornaments-after-all-masses-6/2024-12-22/
END:VEVENT
BEGIN:VEVENT
DTSTART;TZID=America/Chicago:20241222T140000
DTEND;TZID=America/Chicago:20241222T143000
DTSTAMP:20260424T193317
CREATED:20241107T110832Z
LAST-MODIFIED:20241107T110832Z
UID:10804-1734876000-1734877800@cdaboerne.org
SUMMARY:Sell Ornaments after all masses
DESCRIPTION:
URL:https://cdaboerne.org/event/sell-ornaments-after-all-masses-5/2024-12-22/
END:VEVENT
BEGIN:VEVENT
DTSTART;TZID=America/Chicago:20241222T120000
DTEND;TZID=America/Chicago:20241222T123000
DTSTAMP:20260424T193317
CREATED:20241107T110707Z
LAST-MODIFIED:20241107T110707Z
UID:10799-1734868800-1734870600@cdaboerne.org
SUMMARY:Sell ornaments after all masses
DESCRIPTION:
URL:https://cdaboerne.org/event/sell-ornaments-after-all-masses-4/2024-12-22/
END:VEVENT
BEGIN:VEVENT
DTSTART;TZID=America/Chicago:20241222T100000
DTEND;TZID=America/Chicago:20241222T103000
DTSTAMP:20260424T193317
CREATED:20241107T110514Z
LAST-MODIFIED:20241107T110514Z
UID:10794-1734861600-1734863400@cdaboerne.org
SUMMARY:Sell ornaments after all masses
DESCRIPTION:
URL:https://cdaboerne.org/event/sell-ornaments-after-all-masses-3/2024-12-22/
END:VEVENT
BEGIN:VEVENT
DTSTART;TZID=America/Chicago:20241221T183000
DTEND;TZID=America/Chicago:20241221T190000
DTSTAMP:20260424T193317
CREATED:20241107T103704Z
LAST-MODIFIED:20241107T103704Z
UID:10700-1734805800-1734807600@cdaboerne.org
SUMMARY:Sell Ornaments after all masses
DESCRIPTION:
URL:https://cdaboerne.org/event/sell-ornaments-after-all-masses-2/2024-12-21/
END:VEVENT
BEGIN:VEVENT
DTSTART;TZID=America/Chicago:20241215T180000
DTEND;TZID=America/Chicago:20241215T183000
DTSTAMP:20260424T193317
CREATED:20241107T110934Z
LAST-MODIFIED:20241107T110934Z
UID:10807-1734285600-1734287400@cdaboerne.org
SUMMARY:Sell ornaments after all masses
DESCRIPTION:
URL:https://cdaboerne.org/event/sell-ornaments-after-all-masses-6/2024-12-15/
END:VEVENT
BEGIN:VEVENT
DTSTART;TZID=America/Chicago:20241215T140000
DTEND;TZID=America/Chicago:20241215T143000
DTSTAMP:20260424T193317
CREATED:20241107T110832Z
LAST-MODIFIED:20241107T110832Z
UID:10803-1734271200-1734273000@cdaboerne.org
SUMMARY:Sell Ornaments after all masses
DESCRIPTION:
URL:https://cdaboerne.org/event/sell-ornaments-after-all-masses-5/2024-12-15/
END:VEVENT
BEGIN:VEVENT
DTSTART;TZID=America/Chicago:20241215T120000
DTEND;TZID=America/Chicago:20241215T123000
DTSTAMP:20260424T193317
CREATED:20241107T110707Z
LAST-MODIFIED:20241107T110707Z
UID:10798-1734264000-1734265800@cdaboerne.org
SUMMARY:Sell ornaments after all masses
DESCRIPTION:
URL:https://cdaboerne.org/event/sell-ornaments-after-all-masses-4/2024-12-15/
END:VEVENT
BEGIN:VEVENT
DTSTART;TZID=America/Chicago:20241215T100000
DTEND;TZID=America/Chicago:20241215T103000
DTSTAMP:20260424T193317
CREATED:20241107T110514Z
LAST-MODIFIED:20241107T110514Z
UID:10793-1734256800-1734258600@cdaboerne.org
SUMMARY:Sell ornaments after all masses
DESCRIPTION:
URL:https://cdaboerne.org/event/sell-ornaments-after-all-masses-3/2024-12-15/
END:VEVENT
BEGIN:VEVENT
DTSTART;TZID=America/Chicago:20241214T183000
DTEND;TZID=America/Chicago:20241214T190000
DTSTAMP:20260424T193317
CREATED:20241107T103704Z
LAST-MODIFIED:20241107T103704Z
UID:10699-1734201000-1734202800@cdaboerne.org
SUMMARY:Sell Ornaments after all masses
DESCRIPTION:
URL:https://cdaboerne.org/event/sell-ornaments-after-all-masses-2/2024-12-14/
END:VEVENT
BEGIN:VEVENT
DTSTART;TZID=America/Chicago:20241210T180000
DTEND;TZID=America/Chicago:20241210T203000
DTSTAMP:20260424T193317
CREATED:20230918T124912Z
LAST-MODIFIED:20260112T191512Z
UID:5857-1733853600-1733862600@cdaboerne.org
SUMMARY:CDA Court Meeting
DESCRIPTION:Link to bring food for the meeting
URL:https://cdaboerne.org/event/cda-court-meeting/2024-12-10/
LOCATION:St. Anthony’s @ UTR\, 416 W. Highland\, Boerne\, TX\, 78006\, United States
ORGANIZER;CN="Janice Almeida%2C Regent":MAILTO:janice.maggie1@gmail.com
END:VEVENT
BEGIN:VEVENT
DTSTART;TZID=America/Chicago:20241208T180000
DTEND;TZID=America/Chicago:20241208T183000
DTSTAMP:20260424T193317
CREATED:20241107T110934Z
LAST-MODIFIED:20241107T110934Z
UID:10806-1733680800-1733682600@cdaboerne.org
SUMMARY:Sell ornaments after all masses
DESCRIPTION:
URL:https://cdaboerne.org/event/sell-ornaments-after-all-masses-6/2024-12-08/
END:VEVENT
BEGIN:VEVENT
DTSTART;TZID=America/Chicago:20241208T140000
DTEND;TZID=America/Chicago:20241208T143000
DTSTAMP:20260424T193317
CREATED:20241107T110832Z
LAST-MODIFIED:20241107T110832Z
UID:10802-1733666400-1733668200@cdaboerne.org
SUMMARY:Sell Ornaments after all masses
DESCRIPTION:
URL:https://cdaboerne.org/event/sell-ornaments-after-all-masses-5/2024-12-08/
END:VEVENT
BEGIN:VEVENT
DTSTART;TZID=America/Chicago:20241208T120000
DTEND;TZID=America/Chicago:20241208T123000
DTSTAMP:20260424T193317
CREATED:20241107T110707Z
LAST-MODIFIED:20241107T110707Z
UID:10797-1733659200-1733661000@cdaboerne.org
SUMMARY:Sell ornaments after all masses
DESCRIPTION:
URL:https://cdaboerne.org/event/sell-ornaments-after-all-masses-4/2024-12-08/
END:VEVENT
BEGIN:VEVENT
DTSTART;TZID=America/Chicago:20241208T100000
DTEND;TZID=America/Chicago:20241208T103000
DTSTAMP:20260424T193317
CREATED:20241107T110514Z
LAST-MODIFIED:20241107T110514Z
UID:10792-1733652000-1733653800@cdaboerne.org
SUMMARY:Sell ornaments after all masses
DESCRIPTION:
URL:https://cdaboerne.org/event/sell-ornaments-after-all-masses-3/2024-12-08/
END:VEVENT
BEGIN:VEVENT
DTSTART;TZID=America/Chicago:20241207T183000
DTEND;TZID=America/Chicago:20241207T190000
DTSTAMP:20260424T193317
CREATED:20241107T103704Z
LAST-MODIFIED:20241107T103704Z
UID:10698-1733596200-1733598000@cdaboerne.org
SUMMARY:Sell Ornaments after all masses
DESCRIPTION:
URL:https://cdaboerne.org/event/sell-ornaments-after-all-masses-2/2024-12-07/
END:VEVENT
BEGIN:VEVENT
DTSTART;TZID=America/Chicago:20241201T180000
DTEND;TZID=America/Chicago:20241201T183000
DTSTAMP:20260424T193317
CREATED:20241011T114725Z
LAST-MODIFIED:20241011T114725Z
UID:10790-1733076000-1733077800@cdaboerne.org
SUMMARY:Sell Poinsettias and ornaments after all masses
DESCRIPTION:
URL:https://cdaboerne.org/event/sell-poinsettias-4/2024-12-01/
LOCATION:St. Peter the Apostle Church\, 202 W. Kronkosky\, Boerne\, TX\, 78006\, United States
ORGANIZER;CN="Janice Almeida%2C Regent":MAILTO:janice.maggie1@gmail.com
END:VEVENT
BEGIN:VEVENT
DTSTART;TZID=America/Chicago:20241201T140000
DTEND;TZID=America/Chicago:20241201T143000
DTSTAMP:20260424T193317
CREATED:20241011T114558Z
LAST-MODIFIED:20241011T114558Z
UID:10768-1733061600-1733063400@cdaboerne.org
SUMMARY:Sell Poinsettias and ornaments after all masses
DESCRIPTION:
URL:https://cdaboerne.org/event/sell-poinsettias-3/2024-12-01/
LOCATION:St. Peter the Apostle Church\, 202 W. Kronkosky\, Boerne\, TX\, 78006\, United States
ORGANIZER;CN="Janice Almeida%2C Regent":MAILTO:janice.maggie1@gmail.com
END:VEVENT
BEGIN:VEVENT
DTSTART;TZID=America/Chicago:20241201T120000
DTEND;TZID=America/Chicago:20241201T123000
DTSTAMP:20260424T193317
CREATED:20241011T114338Z
LAST-MODIFIED:20241107T102607Z
UID:10266-1733054400-1733056200@cdaboerne.org
SUMMARY:Sell Poinsettias and ornaments after all masses
DESCRIPTION:
URL:https://cdaboerne.org/event/sell-poinsettias-2/2024-12-01/
LOCATION:St. Peter the Apostle Church\, 202 W. Kronkosky\, Boerne\, TX\, 78006\, United States
ORGANIZER;CN="Janice Almeida%2C Regent":MAILTO:janice.maggie1@gmail.com
END:VEVENT
BEGIN:VEVENT
DTSTART;TZID=America/Chicago:20241201T100000
DTEND;TZID=America/Chicago:20241201T103000
DTSTAMP:20260424T193317
CREATED:20241107T103340Z
LAST-MODIFIED:20241107T103340Z
UID:10696-1733047200-1733049000@cdaboerne.org
SUMMARY:Sell Poinsettias and Ornaments after all masses
DESCRIPTION:
URL:https://cdaboerne.org/event/sell-poinsettias-and-ornaments-after-all-masses/2024-12-01/
END:VEVENT
BEGIN:VEVENT
DTSTART;TZID=America/Chicago:20241130T183000
DTEND;TZID=America/Chicago:20241130T190000
DTSTAMP:20260424T193317
CREATED:20241107T102304Z
LAST-MODIFIED:20241107T102304Z
UID:10652-1732991400-1732993200@cdaboerne.org
SUMMARY:Sell poinsettias and ornaments
DESCRIPTION:See after mass
URL:https://cdaboerne.org/event/sell-poinsettias-and-ornaments/
LOCATION:St. Peter the Apostle Church\, 202 W. Kronkosky\, Boerne\, TX\, 78006\, United States
ORGANIZER;CN="Janice Almeida%2C Regent":MAILTO:janice.maggie1@gmail.com
END:VEVENT
BEGIN:VEVENT
DTSTART;TZID=America/Chicago:20241124T180000
DTEND;TZID=America/Chicago:20241124T183000
DTSTAMP:20260424T193317
CREATED:20241011T114725Z
LAST-MODIFIED:20241011T114725Z
UID:10789-1732471200-1732473000@cdaboerne.org
SUMMARY:Sell Poinsettias and ornaments after all masses
DESCRIPTION:
URL:https://cdaboerne.org/event/sell-poinsettias-4/2024-11-24/
LOCATION:St. Peter the Apostle Church\, 202 W. Kronkosky\, Boerne\, TX\, 78006\, United States
ORGANIZER;CN="Janice Almeida%2C Regent":MAILTO:janice.maggie1@gmail.com
END:VEVENT
BEGIN:VEVENT
DTSTART;TZID=America/Chicago:20241124T140000
DTEND;TZID=America/Chicago:20241124T143000
DTSTAMP:20260424T193317
CREATED:20241011T114558Z
LAST-MODIFIED:20241107T105709Z
UID:10271-1732456800-1732458600@cdaboerne.org
SUMMARY:Sell Poinsettias and ornaments after all masses
DESCRIPTION:
URL:https://cdaboerne.org/event/sell-poinsettias-3/2024-11-24/
LOCATION:St. Peter the Apostle Church\, 202 W. Kronkosky\, Boerne\, TX\, 78006\, United States
ORGANIZER;CN="Janice Almeida%2C Regent":MAILTO:janice.maggie1@gmail.com
END:VEVENT
BEGIN:VEVENT
DTSTART;TZID=America/Chicago:20241124T120000
DTEND;TZID=America/Chicago:20241124T123000
DTSTAMP:20260424T193317
CREATED:20241011T114338Z
LAST-MODIFIED:20241107T102607Z
UID:10265-1732449600-1732451400@cdaboerne.org
SUMMARY:Sell Poinsettias and ornaments after all masses
DESCRIPTION:
URL:https://cdaboerne.org/event/sell-poinsettias-2/2024-11-24/
LOCATION:St. Peter the Apostle Church\, 202 W. Kronkosky\, Boerne\, TX\, 78006\, United States
ORGANIZER;CN="Janice Almeida%2C Regent":MAILTO:janice.maggie1@gmail.com
END:VEVENT
BEGIN:VEVENT
DTSTART;TZID=America/Chicago:20241124T100000
DTEND;TZID=America/Chicago:20241124T103000
DTSTAMP:20260424T193317
CREATED:20241107T103340Z
LAST-MODIFIED:20241107T103340Z
UID:10695-1732442400-1732444200@cdaboerne.org
SUMMARY:Sell Poinsettias and Ornaments after all masses
DESCRIPTION:
URL:https://cdaboerne.org/event/sell-poinsettias-and-ornaments-after-all-masses/2024-11-24/
END:VEVENT
BEGIN:VEVENT
DTSTART;TZID=America/Chicago:20241123T183000
DTEND;TZID=America/Chicago:20241123T190000
DTSTAMP:20260424T193317
CREATED:20241011T103224Z
LAST-MODIFIED:20241107T102846Z
UID:9975-1732386600-1732388400@cdaboerne.org
SUMMARY:Sell  Poinsettias and ornaments after all masses
DESCRIPTION:Sell poinsettias and ornaments after all masses
URL:https://cdaboerne.org/event/pre-sell-ornaments/2024-11-23/
LOCATION:St. Peter the Apostle Church\, 202 W. Kronkosky\, Boerne\, TX\, 78006\, United States
ORGANIZER;CN="Janice Almeida%2C Regent":MAILTO:janice.maggie1@gmail.com
END:VEVENT
BEGIN:VEVENT
DTSTART;TZID=America/Chicago:20241123T093000
DTEND;TZID=America/Chicago:20241123T123000
DTSTAMP:20260424T193317
CREATED:20241107T213420Z
LAST-MODIFIED:20241115T113051Z
UID:10823-1732354200-1732365000@cdaboerne.org
SUMMARY:New Court Installation
DESCRIPTION:Daugthers of the Divine Mercy invitation
URL:https://cdaboerne.org/event/new-court-installation/
LOCATION:Daughters of the Diving Mercy #2814\, 13715 Riggs Road\, Helotes\, TX\, 78023\, United States
ORGANIZER;CN="Heidi Abshire":MAILTO:heidiabshire1@gmail.com
END:VEVENT
END:VCALENDAR