BEGIN:VCALENDAR
VERSION:2.0
PRODID:-//CDA Court 2690 - ECPv6.15.20//NONSGML v1.0//EN
CALSCALE:GREGORIAN
METHOD:PUBLISH
X-WR-CALNAME:CDA Court 2690
X-ORIGINAL-URL:https://cdaboerne.org
X-WR-CALDESC:Events for CDA Court 2690
REFRESH-INTERVAL;VALUE=DURATION:PT1H
X-Robots-Tag:noindex
X-PUBLISHED-TTL:PT1H
BEGIN:VTIMEZONE
TZID:America/Chicago
BEGIN:DAYLIGHT
TZOFFSETFROM:-0600
TZOFFSETTO:-0500
TZNAME:CDT
DTSTART:20240310T080000
END:DAYLIGHT
BEGIN:STANDARD
TZOFFSETFROM:-0500
TZOFFSETTO:-0600
TZNAME:CST
DTSTART:20241103T070000
END:STANDARD
BEGIN:DAYLIGHT
TZOFFSETFROM:-0600
TZOFFSETTO:-0500
TZNAME:CDT
DTSTART:20250309T080000
END:DAYLIGHT
BEGIN:STANDARD
TZOFFSETFROM:-0500
TZOFFSETTO:-0600
TZNAME:CST
DTSTART:20251102T070000
END:STANDARD
BEGIN:DAYLIGHT
TZOFFSETFROM:-0600
TZOFFSETTO:-0500
TZNAME:CDT
DTSTART:20260308T080000
END:DAYLIGHT
BEGIN:STANDARD
TZOFFSETFROM:-0500
TZOFFSETTO:-0600
TZNAME:CST
DTSTART:20261101T070000
END:STANDARD
BEGIN:DAYLIGHT
TZOFFSETFROM:-0600
TZOFFSETTO:-0500
TZNAME:CDT
DTSTART:20270314T080000
END:DAYLIGHT
BEGIN:STANDARD
TZOFFSETFROM:-0500
TZOFFSETTO:-0600
TZNAME:CST
DTSTART:20271107T070000
END:STANDARD
END:VTIMEZONE
BEGIN:VEVENT
DTSTART;TZID=America/Chicago:20260327T140000
DTEND;TZID=America/Chicago:20260327T170000
DTSTAMP:20260424T210022
CREATED:20260113T133204Z
LAST-MODIFIED:20260113T133204Z
UID:12894-1774620000-1774630800@cdaboerne.org
SUMMARY:Easter Egg Hunt -  Set up
DESCRIPTION:We will set up the day before the event
URL:https://cdaboerne.org/event/easter-egg-hunt-set-up/
LOCATION:Easter Egg Hunt
ORGANIZER;CN="Janice Almeida%2C Regent":MAILTO:janice.maggie1@gmail.com
END:VEVENT
BEGIN:VEVENT
DTSTART;TZID=America/Chicago:20260324T170000
DTEND;TZID=America/Chicago:20260324T190000
DTSTAMP:20260424T210022
CREATED:20260113T122636Z
LAST-MODIFIED:20260113T122636Z
UID:12889-1774371600-1774378800@cdaboerne.org
SUMMARY:Officer Meeting
DESCRIPTION:More details to follow
URL:https://cdaboerne.org/event/officer-meeting-2/
LOCATION:Officer Meeting\, 85 Ranch Brk\, Boerne\, TX\, 78015-8373\, United States
ORGANIZER;CN="Janice Almeida%2C Regent":MAILTO:janice.maggie1@gmail.com
END:VEVENT
BEGIN:VEVENT
DTSTART;TZID=America/Chicago:20260320T160000
DTEND;TZID=America/Chicago:20260320T200000
DTSTAMP:20260424T210022
CREATED:20260113T122117Z
LAST-MODIFIED:20260113T122117Z
UID:12882-1774022400-1774036800@cdaboerne.org
SUMMARY:Fish Fry
DESCRIPTION:More details to follow
URL:https://cdaboerne.org/event/fish-fry-7/
LOCATION:Fish Fry
ORGANIZER;CN="Dorothy Meuth":MAILTO:dmeuth@gvtc.com
END:VEVENT
BEGIN:VEVENT
DTSTART;TZID=America/Chicago:20260319T160000
DTEND;TZID=America/Chicago:20260319T200000
DTSTAMP:20260424T210022
CREATED:20260113T134458Z
LAST-MODIFIED:20260113T134458Z
UID:12915-1773936000-1773950400@cdaboerne.org
SUMMARY:St. Benedictine Spaghetti Dinner
DESCRIPTION:More details to follow
URL:https://cdaboerne.org/event/st-benedictine-spaghetti-dinner/
LOCATION:Spaghetti dinner
ORGANIZER;CN="Kimberley Goodman%2C Vice Regent":MAILTO:kimberleygoodman@icloud.com
END:VEVENT
BEGIN:VEVENT
DTSTART;TZID=America/Chicago:20260315T110000
DTEND;TZID=America/Chicago:20260315T140000
DTSTAMP:20260424T210022
CREATED:20260113T134342Z
LAST-MODIFIED:20260113T134342Z
UID:12911-1773572400-1773583200@cdaboerne.org
SUMMARY:Widow & Widowers' Luncheon
DESCRIPTION:More details to follow
URL:https://cdaboerne.org/event/widow-widowers-luncheon-4/
LOCATION:Widow & Widowers’ Luncheon\, 202 W. Kronkosky\, Boerne\, TX\, 78006\, United States
END:VEVENT
BEGIN:VEVENT
DTSTART;TZID=America/Chicago:20260310T180000
DTEND;TZID=America/Chicago:20260310T203000
DTSTAMP:20260424T210022
CREATED:20230918T124912Z
LAST-MODIFIED:20260112T191524Z
UID:8116-1773165600-1773174600@cdaboerne.org
SUMMARY:CDA Court Meeting
DESCRIPTION:Link to bring food for the meeting
URL:https://cdaboerne.org/event/cda-court-meeting/2026-03-10/
LOCATION:St. Anthony’s @ UTR\, 416 W. Highland\, Boerne\, TX\, 78006\, United States
ORGANIZER;CN="Janice Almeida%2C Regent":MAILTO:janice.maggie1@gmail.com
END:VEVENT
BEGIN:VEVENT
DTSTART;TZID=America/Chicago:20260227T170000
DTEND;TZID=America/Chicago:20260227T200000
DTSTAMP:20260424T210022
CREATED:20260113T122014Z
LAST-MODIFIED:20260113T122014Z
UID:12880-1772211600-1772222400@cdaboerne.org
SUMMARY:Fish Fry
DESCRIPTION:More details to follow
URL:https://cdaboerne.org/event/fish-fry-6/
LOCATION:Fish Fry
ORGANIZER;CN="Dorothy Meuth":MAILTO:dmeuth@gvtc.com
END:VEVENT
BEGIN:VEVENT
DTSTART;TZID=America/Chicago:20260224T170000
DTEND;TZID=America/Chicago:20260224T190000
DTSTAMP:20260424T210022
CREATED:20260113T121906Z
LAST-MODIFIED:20260113T121906Z
UID:12878-1771952400-1771959600@cdaboerne.org
SUMMARY:Officer Meeting
DESCRIPTION:Location to be determined
URL:https://cdaboerne.org/event/officer-meeting-4/
LOCATION:TX
END:VEVENT
BEGIN:VEVENT
DTSTART;TZID=America/Chicago:20260215T173000
DTEND;TZID=America/Chicago:20260215T190000
DTSTAMP:20260424T210022
CREATED:20260113T120144Z
LAST-MODIFIED:20260113T120144Z
UID:12869-1771176600-1771182000@cdaboerne.org
SUMMARY:Pancake Dinner
DESCRIPTION:Please plan on attending with your family and friends \nFind another mass you can support – Sign up Sheet provided 
URL:https://cdaboerne.org/event/pancake-dinner-5/
LOCATION:Pancake Dinner
ORGANIZER;CN="Janice Almeida%2C Regent":MAILTO:janice.maggie1@gmail.com
END:VEVENT
BEGIN:VEVENT
DTSTART;TZID=America/Chicago:20260215T133000
DTEND;TZID=America/Chicago:20260215T150000
DTSTAMP:20260424T210022
CREATED:20260113T120051Z
LAST-MODIFIED:20260113T121125Z
UID:12867-1771162200-1771167600@cdaboerne.org
SUMMARY:Pancake Dinner - after 1 p.m. Mass
DESCRIPTION:Please plan on attending with your family and friends \nFind another mass you can support – Sign up Sheet provided 
URL:https://cdaboerne.org/event/pancake-dinner-4/
LOCATION:Pancake Dinner
ORGANIZER;CN="Janice Almeida%2C Regent":MAILTO:janice.maggie1@gmail.com
END:VEVENT
BEGIN:VEVENT
DTSTART;TZID=America/Chicago:20260215T113000
DTEND;TZID=America/Chicago:20260215T130000
DTSTAMP:20260424T210022
CREATED:20260113T115947Z
LAST-MODIFIED:20260113T115947Z
UID:12865-1771155000-1771160400@cdaboerne.org
SUMMARY:Pancake Dinner
DESCRIPTION:Please plan on attending with your family and friends \nFind another mass you can support – Sign up Sheet provided 
URL:https://cdaboerne.org/event/pancake-dinner-3/
LOCATION:Pancake Dinner
ORGANIZER;CN="Janice Almeida%2C Regent":MAILTO:janice.maggie1@gmail.com
END:VEVENT
BEGIN:VEVENT
DTSTART;TZID=America/Chicago:20260215T093000
DTEND;TZID=America/Chicago:20260215T110000
DTSTAMP:20260424T210022
CREATED:20260113T115537Z
LAST-MODIFIED:20260113T115537Z
UID:12860-1771147800-1771153200@cdaboerne.org
SUMMARY:Pancake Dinner
DESCRIPTION:Please plan on attending with your family and friends \nFind another mass you can support – Sign up Sheet provided 
URL:https://cdaboerne.org/event/pancake-dinner-2/
LOCATION:Pancake Dinner
ORGANIZER;CN="Janice Almeida%2C Regent":MAILTO:janice.maggie1@gmail.com
END:VEVENT
BEGIN:VEVENT
DTSTART;TZID=America/Chicago:20260210T180000
DTEND;TZID=America/Chicago:20260210T210000
DTSTAMP:20260424T210022
CREATED:20260112T163339Z
LAST-MODIFIED:20260112T163339Z
UID:12834-1770746400-1770757200@cdaboerne.org
SUMMARY:Bunco Party
DESCRIPTION:
URL:https://cdaboerne.org/event/bunco-party/
LOCATION:CDA Court #2690 Year-Round Adoration\, 202 W. Kronkosky\, Boerne\, TX\, 78006\, United States
ORGANIZER;CN="Janice Almeida%2C Regent":MAILTO:janice.maggie1@gmail.com
END:VEVENT
BEGIN:VEVENT
DTSTART;TZID=America/Chicago:20260127T170000
DTEND;TZID=America/Chicago:20260127T190000
DTSTAMP:20260424T210022
CREATED:20260113T121800Z
LAST-MODIFIED:20260113T121800Z
UID:12873-1769533200-1769540400@cdaboerne.org
SUMMARY:Officer Meeting
DESCRIPTION:Will need a gate code to access neighborhood – contact Janice for info
URL:https://cdaboerne.org/event/officer-meeting-3/
LOCATION:Officer Meeting\, 85 Ranch Brk\, Boerne\, TX\, 78015-8373\, United States
ORGANIZER;CN="Janice Almeida%2C Regent":MAILTO:janice.maggie1@gmail.com
END:VEVENT
BEGIN:VEVENT
DTSTART;TZID=America/Chicago:20260113T170000
DTEND;TZID=America/Chicago:20260113T190000
DTSTAMP:20260424T210022
CREATED:20260113T133856Z
LAST-MODIFIED:20260113T133856Z
UID:12905-1768323600-1768330800@cdaboerne.org
SUMMARY:Officer Meeting
DESCRIPTION:More details to follow
URL:https://cdaboerne.org/event/officer-meeting-5/
LOCATION:Officer Meeting\, 85 Ranch Brk\, Boerne\, TX\, 78015-8373\, United States
ORGANIZER;CN="Janice Almeida%2C Regent":MAILTO:janice.maggie1@gmail.com
END:VEVENT
BEGIN:VEVENT
DTSTART;TZID=America/Chicago:20251209T180000
DTEND;TZID=America/Chicago:20251209T203000
DTSTAMP:20260424T210022
CREATED:20230918T124912Z
LAST-MODIFIED:20231231T073309Z
UID:6637-1765303200-1765312200@cdaboerne.org
SUMMARY:CDA Court Meeting
DESCRIPTION:
URL:https://cdaboerne.org/event/cda-court-meeting-2025-12-09/
LOCATION:St. Anthony’s @ UTR\, 416 W. Highland\, Boerne\, TX\, 78006\, United States
END:VEVENT
BEGIN:VEVENT
DTSTART;TZID=America/Chicago:20251111T180000
DTEND;TZID=America/Chicago:20251111T203000
DTSTAMP:20260424T210022
CREATED:20230918T124912Z
LAST-MODIFIED:20260112T191522Z
UID:6530-1762884000-1762893000@cdaboerne.org
SUMMARY:CDA Court Meeting
DESCRIPTION:Link to bring food for the meeting
URL:https://cdaboerne.org/event/cda-court-meeting/2025-11-11/
LOCATION:St. Anthony’s @ UTR\, 416 W. Highland\, Boerne\, TX\, 78006\, United States
ORGANIZER;CN="Janice Almeida%2C Regent":MAILTO:janice.maggie1@gmail.com
END:VEVENT
BEGIN:VEVENT
DTSTART;TZID=America/Chicago:20251014T180000
DTEND;TZID=America/Chicago:20251014T203000
DTSTAMP:20260424T210022
CREATED:20230918T124912Z
LAST-MODIFIED:20260112T191522Z
UID:6005-1760464800-1760473800@cdaboerne.org
SUMMARY:CDA Court Meeting
DESCRIPTION:Link to bring food for the meeting
URL:https://cdaboerne.org/event/cda-court-meeting/2025-10-14/
LOCATION:St. Anthony’s @ UTR\, 416 W. Highland\, Boerne\, TX\, 78006\, United States
ORGANIZER;CN="Janice Almeida%2C Regent":MAILTO:janice.maggie1@gmail.com
END:VEVENT
BEGIN:VEVENT
DTSTART;TZID=America/Chicago:20250909T180000
DTEND;TZID=America/Chicago:20250909T203000
DTSTAMP:20260424T210022
CREATED:20230918T124912Z
LAST-MODIFIED:20260112T191521Z
UID:5866-1757440800-1757449800@cdaboerne.org
SUMMARY:CDA Court Meeting
DESCRIPTION:Link to bring food for the meeting
URL:https://cdaboerne.org/event/cda-court-meeting/2025-09-09/
LOCATION:St. Anthony’s @ UTR\, 416 W. Highland\, Boerne\, TX\, 78006\, United States
ORGANIZER;CN="Janice Almeida%2C Regent":MAILTO:janice.maggie1@gmail.com
END:VEVENT
BEGIN:VEVENT
DTSTART;TZID=America/Chicago:20250817T180000
DTEND;TZID=America/Chicago:20250817T183000
DTSTAMP:20260424T210022
CREATED:20250812T212832Z
LAST-MODIFIED:20250812T213653Z
UID:12102-1755453600-1755455400@cdaboerne.org
SUMMARY:Blessings in a Backpack - 5 p.m. Mass
DESCRIPTION:Collect money for  Blessings in a Backpack after all masses
URL:https://cdaboerne.org/event/blessings-in-a-backpack-duplicate/
LOCATION:Blessings in a Backpack
ORGANIZER;CN="Janice Almeida%2C Regent":MAILTO:janice.maggie1@gmail.com
END:VEVENT
BEGIN:VEVENT
DTSTART;TZID=America/Chicago:20250817T140000
DTEND;TZID=America/Chicago:20250817T143000
DTSTAMP:20260424T210022
CREATED:20250812T213209Z
LAST-MODIFIED:20250812T213209Z
UID:12110-1755439200-1755441000@cdaboerne.org
SUMMARY:Blessings in a Backpack - 1 p.m. Mass
DESCRIPTION:Collect money for  Blessings in a Backpack after all masses
URL:https://cdaboerne.org/event/blessings-in-a-backpack-1-p-m-mass/
LOCATION:Blessings in a Backpack
ORGANIZER;CN="Janice Almeida%2C Regent":MAILTO:janice.maggie1@gmail.com
END:VEVENT
BEGIN:VEVENT
DTSTART;TZID=America/Chicago:20250817T120000
DTEND;TZID=America/Chicago:20250817T123000
DTSTAMP:20260424T210022
CREATED:20250812T213040Z
LAST-MODIFIED:20250812T213040Z
UID:12108-1755432000-1755433800@cdaboerne.org
SUMMARY:Blessings in a Backpack - 11 a.m. Mass
DESCRIPTION:Collect money for  Blessings in a Backpack after all masses
URL:https://cdaboerne.org/event/blessings-in-a-backpack-11-a-m-mass/
LOCATION:Blessings in a Backpack
ORGANIZER;CN="Janice Almeida%2C Regent":MAILTO:janice.maggie1@gmail.com
END:VEVENT
BEGIN:VEVENT
DTSTART;TZID=America/Chicago:20250817T100000
DTEND;TZID=America/Chicago:20250817T103000
DTSTAMP:20260424T210022
CREATED:20250812T212911Z
LAST-MODIFIED:20250812T213431Z
UID:12104-1755424800-1755426600@cdaboerne.org
SUMMARY:Blessings in a Backpack - 9 a.m. Mass
DESCRIPTION:Collect money for  Blessings in a Backpack after all masses
URL:https://cdaboerne.org/event/blessings-in-a-backpack-duplicate-duplicate/
LOCATION:Blessings in a Backpack
ORGANIZER;CN="Janice Almeida%2C Regent":MAILTO:janice.maggie1@gmail.com
END:VEVENT
BEGIN:VEVENT
DTSTART;TZID=America/Chicago:20250816T183000
DTEND;TZID=America/Chicago:20250816T190000
DTSTAMP:20260424T210022
CREATED:20250812T211519Z
LAST-MODIFIED:20250812T211535Z
UID:12093-1755369000-1755370800@cdaboerne.org
SUMMARY:Blessings in a Backpack
DESCRIPTION:Collect money for  Blessings in a Backpack after all masses
URL:https://cdaboerne.org/event/12093/
LOCATION:Blessings in a Backpack
ORGANIZER;CN="Janice Almeida%2C Regent":MAILTO:janice.maggie1@gmail.com
END:VEVENT
BEGIN:VEVENT
DTSTART;TZID=America/Chicago:20250812T180000
DTEND;TZID=America/Chicago:20250812T203000
DTSTAMP:20260424T210022
CREATED:20230918T124912Z
LAST-MODIFIED:20260112T191521Z
UID:5865-1755021600-1755030600@cdaboerne.org
SUMMARY:CDA Court Meeting
DESCRIPTION:Link to bring food for the meeting
URL:https://cdaboerne.org/event/cda-court-meeting/2025-08-12/
LOCATION:St. Anthony’s @ UTR\, 416 W. Highland\, Boerne\, TX\, 78006\, United States
ORGANIZER;CN="Janice Almeida%2C Regent":MAILTO:janice.maggie1@gmail.com
END:VEVENT
BEGIN:VEVENT
DTSTART;TZID=America/Chicago:20250708T180000
DTEND;TZID=America/Chicago:20250708T203000
DTSTAMP:20260424T210022
CREATED:20230918T124912Z
LAST-MODIFIED:20260112T191521Z
UID:5864-1751997600-1752006600@cdaboerne.org
SUMMARY:CDA Court Meeting
DESCRIPTION:Link to bring food for the meeting
URL:https://cdaboerne.org/event/cda-court-meeting/2025-07-08/
LOCATION:St. Anthony’s @ UTR\, 416 W. Highland\, Boerne\, TX\, 78006\, United States
ORGANIZER;CN="Janice Almeida%2C Regent":MAILTO:janice.maggie1@gmail.com
END:VEVENT
BEGIN:VEVENT
DTSTART;TZID=America/Chicago:20250610T180000
DTEND;TZID=America/Chicago:20250610T203000
DTSTAMP:20260424T210022
CREATED:20230918T124912Z
LAST-MODIFIED:20260112T191521Z
UID:5863-1749578400-1749587400@cdaboerne.org
SUMMARY:CDA Court Meeting
DESCRIPTION:Link to bring food for the meeting
URL:https://cdaboerne.org/event/cda-court-meeting/2025-06-10/
LOCATION:St. Anthony’s @ UTR\, 416 W. Highland\, Boerne\, TX\, 78006\, United States
ORGANIZER;CN="Janice Almeida%2C Regent":MAILTO:janice.maggie1@gmail.com
END:VEVENT
BEGIN:VEVENT
DTSTART;TZID=America/Chicago:20250513T180000
DTEND;TZID=America/Chicago:20250513T203000
DTSTAMP:20260424T210022
CREATED:20230918T124912Z
LAST-MODIFIED:20260112T191520Z
UID:5862-1747159200-1747168200@cdaboerne.org
SUMMARY:CDA Court Meeting
DESCRIPTION:Link to bring food for the meeting
URL:https://cdaboerne.org/event/cda-court-meeting/2025-05-13/
LOCATION:St. Anthony’s @ UTR\, 416 W. Highland\, Boerne\, TX\, 78006\, United States
ORGANIZER;CN="Janice Almeida%2C Regent":MAILTO:janice.maggie1@gmail.com
END:VEVENT
BEGIN:VEVENT
DTSTART;TZID=America/Chicago:20250423T080000
DTEND;TZID=America/Chicago:20250427T170000
DTSTAMP:20260424T210022
CREATED:20240821T112056Z
LAST-MODIFIED:20240821T112056Z
UID:9515-1745395200-1745773200@cdaboerne.org
SUMMARY:State CDA Convention
DESCRIPTION:Hosted in Dallas at the Dallas Sheraton Hotel
URL:https://cdaboerne.org/event/state-cda-convention/
LOCATION:CDA State Convention
END:VEVENT
BEGIN:VEVENT
DTSTART;TZID=America/Chicago:20250412T110000
DTEND;TZID=America/Chicago:20250412T150000
DTSTAMP:20260424T210022
CREATED:20250203T134841Z
LAST-MODIFIED:20250203T134841Z
UID:11327-1744455600-1744470000@cdaboerne.org
SUMMARY:Easter Egg Hunt
DESCRIPTION:More details to follow
URL:https://cdaboerne.org/event/easter-egg-hunt-2/
LOCATION:TX
END:VEVENT
END:VCALENDAR