BEGIN:VCALENDAR
VERSION:2.0
PRODID:-//CDA Court 2690 - ECPv6.15.20//NONSGML v1.0//EN
CALSCALE:GREGORIAN
METHOD:PUBLISH
X-WR-CALNAME:CDA Court 2690
X-ORIGINAL-URL:https://cdaboerne.org
X-WR-CALDESC:Events for CDA Court 2690
REFRESH-INTERVAL;VALUE=DURATION:PT1H
X-Robots-Tag:noindex
X-PUBLISHED-TTL:PT1H
BEGIN:VTIMEZONE
TZID:America/Chicago
BEGIN:DAYLIGHT
TZOFFSETFROM:-0600
TZOFFSETTO:-0500
TZNAME:CDT
DTSTART:20250309T080000
END:DAYLIGHT
BEGIN:STANDARD
TZOFFSETFROM:-0500
TZOFFSETTO:-0600
TZNAME:CST
DTSTART:20251102T070000
END:STANDARD
BEGIN:DAYLIGHT
TZOFFSETFROM:-0600
TZOFFSETTO:-0500
TZNAME:CDT
DTSTART:20260308T080000
END:DAYLIGHT
BEGIN:STANDARD
TZOFFSETFROM:-0500
TZOFFSETTO:-0600
TZNAME:CST
DTSTART:20261101T070000
END:STANDARD
BEGIN:DAYLIGHT
TZOFFSETFROM:-0600
TZOFFSETTO:-0500
TZNAME:CDT
DTSTART:20270314T080000
END:DAYLIGHT
BEGIN:STANDARD
TZOFFSETFROM:-0500
TZOFFSETTO:-0600
TZNAME:CST
DTSTART:20271107T070000
END:STANDARD
BEGIN:DAYLIGHT
TZOFFSETFROM:-0600
TZOFFSETTO:-0500
TZNAME:CDT
DTSTART:20280312T080000
END:DAYLIGHT
BEGIN:STANDARD
TZOFFSETFROM:-0500
TZOFFSETTO:-0600
TZNAME:CST
DTSTART:20281105T070000
END:STANDARD
BEGIN:DAYLIGHT
TZOFFSETFROM:-0600
TZOFFSETTO:-0500
TZNAME:CDT
DTSTART:20290311T080000
END:DAYLIGHT
BEGIN:STANDARD
TZOFFSETFROM:-0500
TZOFFSETTO:-0600
TZNAME:CST
DTSTART:20291104T070000
END:STANDARD
END:VTIMEZONE
BEGIN:VEVENT
DTSTART;TZID=America/Chicago:20260428T170000
DTEND;TZID=America/Chicago:20260428T190000
DTSTAMP:20260424T110750
CREATED:20260113T122801Z
LAST-MODIFIED:20260113T122801Z
UID:12891-1777395600-1777402800@cdaboerne.org
SUMMARY:Officer Meeting & Financial Review
DESCRIPTION:More details to follow
URL:https://cdaboerne.org/event/officer-meeting-financial-review/
LOCATION:Officer Meeting\, 85 Ranch Brk\, Boerne\, TX\, 78015-8373\, United States
ORGANIZER;CN="Janice Almeida%2C Regent":MAILTO:janice.maggie1@gmail.com
END:VEVENT
BEGIN:VEVENT
DTSTART;TZID=America/Chicago:20260510T080000
DTEND;TZID=America/Chicago:20260510T170000
DTSTAMP:20260424T110750
CREATED:20260113T133637Z
LAST-MODIFIED:20260113T133637Z
UID:12901-1778400000-1778432400@cdaboerne.org
SUMMARY:Mother-Daughter Tea Party
DESCRIPTION:More details to follow
URL:https://cdaboerne.org/event/mother-daughter-tea-party/
LOCATION:TX
END:VEVENT
BEGIN:VEVENT
DTSTART;TZID=America/Chicago:20260512T180000
DTEND;TZID=America/Chicago:20260512T203000
DTSTAMP:20260424T110750
CREATED:20230918T124912Z
LAST-MODIFIED:20260112T191524Z
UID:8560-1778608800-1778617800@cdaboerne.org
SUMMARY:CDA Court Meeting
DESCRIPTION:Link to bring food for the meeting
URL:https://cdaboerne.org/event/cda-court-meeting/2026-05-12/
LOCATION:St. Anthony’s @ UTR\, 416 W. Highland\, Boerne\, TX\, 78006\, United States
ORGANIZER;CN="Janice Almeida%2C Regent":MAILTO:janice.maggie1@gmail.com
END:VEVENT
BEGIN:VEVENT
DTSTART;TZID=America/Chicago:20260526T170000
DTEND;TZID=America/Chicago:20260526T190000
DTSTAMP:20260424T110750
CREATED:20260113T134922Z
LAST-MODIFIED:20260113T134922Z
UID:12917-1779814800-1779822000@cdaboerne.org
SUMMARY:Officer Meeting
DESCRIPTION:More details to follow
URL:https://cdaboerne.org/event/officer-meeting-6/
LOCATION:Officer Meeting\, 85 Ranch Brk\, Boerne\, TX\, 78015-8373\, United States
ORGANIZER;CN="Janice Almeida%2C Regent":MAILTO:janice.maggie1@gmail.com
END:VEVENT
BEGIN:VEVENT
DTSTART;TZID=America/Chicago:20260609T080000
DTEND;TZID=America/Chicago:20260609T170000
DTSTAMP:20260424T110750
CREATED:20260113T134017Z
LAST-MODIFIED:20260113T134017Z
UID:12907-1780992000-1781024400@cdaboerne.org
SUMMARY:Decorate Cana for Clergy Appreciation Dinner
DESCRIPTION:More details to follow
URL:https://cdaboerne.org/event/decorate-cana-for-clergy-appreciation-dinner/
LOCATION:Clergy Appreciation Dinner\, Cana Ballroom\, TX\, 78006\, United States
ORGANIZER;CN="Janice Almeida%2C Regent":MAILTO:janice.maggie1@gmail.com
END:VEVENT
BEGIN:VEVENT
DTSTART;TZID=America/Chicago:20260609T180000
DTEND;TZID=America/Chicago:20260609T203000
DTSTAMP:20260424T110750
CREATED:20230918T124912Z
LAST-MODIFIED:20260112T191524Z
UID:8717-1781028000-1781037000@cdaboerne.org
SUMMARY:CDA Court Meeting
DESCRIPTION:Link to bring food for the meeting
URL:https://cdaboerne.org/event/cda-court-meeting/2026-06-09/
LOCATION:St. Anthony’s @ UTR\, 416 W. Highland\, Boerne\, TX\, 78006\, United States
ORGANIZER;CN="Janice Almeida%2C Regent":MAILTO:janice.maggie1@gmail.com
END:VEVENT
BEGIN:VEVENT
DTSTART;TZID=America/Chicago:20260610T173000
DTEND;TZID=America/Chicago:20260610T200000
DTSTAMP:20260424T110750
CREATED:20260113T134128Z
LAST-MODIFIED:20260113T134128Z
UID:12909-1781112600-1781121600@cdaboerne.org
SUMMARY:Install of new officers and Clergy Appreciation Dinner
DESCRIPTION:More details to follow
URL:https://cdaboerne.org/event/install-of-new-officers-and-clergy-appreciation-dinner/
LOCATION:Clergy Appreciation Dinner\, Cana Ballroom\, TX\, 78006\, United States
ORGANIZER;CN="Janice Almeida%2C Regent":MAILTO:janice.maggie1@gmail.com
END:VEVENT
BEGIN:VEVENT
DTSTART;TZID=America/Chicago:20260623T170000
DTEND;TZID=America/Chicago:20260623T190000
DTSTAMP:20260424T110750
CREATED:20260113T135221Z
LAST-MODIFIED:20260113T135221Z
UID:12923-1782234000-1782241200@cdaboerne.org
SUMMARY:Officer Meeting
DESCRIPTION:More details to follow
URL:https://cdaboerne.org/event/officer-meeting-7/
LOCATION:Officer Meeting\, 85 Ranch Brk\, Boerne\, TX\, 78015-8373\, United States
ORGANIZER;CN="Janice Almeida%2C Regent":MAILTO:janice.maggie1@gmail.com
END:VEVENT
BEGIN:VEVENT
DTSTART;TZID=America/Chicago:20260626T080000
DTEND;TZID=America/Chicago:20260626T170000
DTSTAMP:20260424T110750
CREATED:20260113T135028Z
LAST-MODIFIED:20260113T135028Z
UID:12919-1782460800-1782493200@cdaboerne.org
SUMMARY:Prep for Tour de Boerne
DESCRIPTION:More details to follow
URL:https://cdaboerne.org/event/prep-for-tour-de-boerne/
LOCATION:Tour deBoerne
ORGANIZER;CN="Janice Almeida%2C Regent":MAILTO:janice.maggie1@gmail.com
END:VEVENT
BEGIN:VEVENT
DTSTART;TZID=America/Chicago:20260627T080000
DTEND;TZID=America/Chicago:20260627T170000
DTSTAMP:20260424T110750
CREATED:20260113T135117Z
LAST-MODIFIED:20260113T135117Z
UID:12921-1782547200-1782579600@cdaboerne.org
SUMMARY:Tour de Boerne
DESCRIPTION:More details to follow
URL:https://cdaboerne.org/event/tour-de-boerne/
LOCATION:Tour deBoerne
ORGANIZER;CN="Janice Almeida%2C Regent":MAILTO:janice.maggie1@gmail.com
END:VEVENT
BEGIN:VEVENT
DTSTART;TZID=America/Chicago:20260714T180000
DTEND;TZID=America/Chicago:20260714T203000
DTSTAMP:20260424T110750
CREATED:20230918T124912Z
LAST-MODIFIED:20260112T191525Z
UID:9061-1784052000-1784061000@cdaboerne.org
SUMMARY:CDA Court Meeting
DESCRIPTION:Link to bring food for the meeting
URL:https://cdaboerne.org/event/cda-court-meeting/2026-07-14/
LOCATION:St. Anthony’s @ UTR\, 416 W. Highland\, Boerne\, TX\, 78006\, United States
ORGANIZER;CN="Janice Almeida%2C Regent":MAILTO:janice.maggie1@gmail.com
END:VEVENT
BEGIN:VEVENT
DTSTART;TZID=America/Chicago:20260811T180000
DTEND;TZID=America/Chicago:20260811T203000
DTSTAMP:20260424T110750
CREATED:20230918T124912Z
LAST-MODIFIED:20260112T191525Z
UID:9375-1786471200-1786480200@cdaboerne.org
SUMMARY:CDA Court Meeting
DESCRIPTION:Link to bring food for the meeting
URL:https://cdaboerne.org/event/cda-court-meeting/2026-08-11/
LOCATION:St. Anthony’s @ UTR\, 416 W. Highland\, Boerne\, TX\, 78006\, United States
ORGANIZER;CN="Janice Almeida%2C Regent":MAILTO:janice.maggie1@gmail.com
END:VEVENT
BEGIN:VEVENT
DTSTART;TZID=America/Chicago:20260908T180000
DTEND;TZID=America/Chicago:20260908T203000
DTSTAMP:20260424T110750
CREATED:20230918T124912Z
LAST-MODIFIED:20260112T191525Z
UID:9711-1788890400-1788899400@cdaboerne.org
SUMMARY:CDA Court Meeting
DESCRIPTION:Link to bring food for the meeting
URL:https://cdaboerne.org/event/cda-court-meeting/2026-09-08/
LOCATION:St. Anthony’s @ UTR\, 416 W. Highland\, Boerne\, TX\, 78006\, United States
ORGANIZER;CN="Janice Almeida%2C Regent":MAILTO:janice.maggie1@gmail.com
END:VEVENT
BEGIN:VEVENT
DTSTART;TZID=America/Chicago:20261013T180000
DTEND;TZID=America/Chicago:20261013T203000
DTSTAMP:20260424T110750
CREATED:20230918T124912Z
LAST-MODIFIED:20260112T191525Z
UID:10514-1791914400-1791923400@cdaboerne.org
SUMMARY:CDA Court Meeting
DESCRIPTION:Link to bring food for the meeting
URL:https://cdaboerne.org/event/cda-court-meeting/2026-10-13/
LOCATION:St. Anthony’s @ UTR\, 416 W. Highland\, Boerne\, TX\, 78006\, United States
ORGANIZER;CN="Janice Almeida%2C Regent":MAILTO:janice.maggie1@gmail.com
END:VEVENT
BEGIN:VEVENT
DTSTART;TZID=America/Chicago:20261110T180000
DTEND;TZID=America/Chicago:20261110T203000
DTSTAMP:20260424T110750
CREATED:20230918T124912Z
LAST-MODIFIED:20260112T191525Z
UID:10848-1794333600-1794342600@cdaboerne.org
SUMMARY:CDA Court Meeting
DESCRIPTION:Link to bring food for the meeting
URL:https://cdaboerne.org/event/cda-court-meeting/2026-11-10/
LOCATION:St. Anthony’s @ UTR\, 416 W. Highland\, Boerne\, TX\, 78006\, United States
ORGANIZER;CN="Janice Almeida%2C Regent":MAILTO:janice.maggie1@gmail.com
END:VEVENT
BEGIN:VEVENT
DTSTART;TZID=America/Chicago:20261208T180000
DTEND;TZID=America/Chicago:20261208T203000
DTSTAMP:20260424T110750
CREATED:20230918T124912Z
LAST-MODIFIED:20260112T191526Z
UID:11017-1796752800-1796761800@cdaboerne.org
SUMMARY:CDA Court Meeting
DESCRIPTION:Link to bring food for the meeting
URL:https://cdaboerne.org/event/cda-court-meeting/2026-12-08/
LOCATION:St. Anthony’s @ UTR\, 416 W. Highland\, Boerne\, TX\, 78006\, United States
ORGANIZER;CN="Janice Almeida%2C Regent":MAILTO:janice.maggie1@gmail.com
END:VEVENT
BEGIN:VEVENT
DTSTART;TZID=America/Chicago:20270112T180000
DTEND;TZID=America/Chicago:20270112T203000
DTSTAMP:20260424T110750
CREATED:20230918T124912Z
LAST-MODIFIED:20260112T191527Z
UID:11180-1799776800-1799785800@cdaboerne.org
SUMMARY:CDA Court Meeting
DESCRIPTION:Link to bring food for the meeting
URL:https://cdaboerne.org/event/cda-court-meeting/2027-01-12/
LOCATION:St. Anthony’s @ UTR\, 416 W. Highland\, Boerne\, TX\, 78006\, United States
ORGANIZER;CN="Janice Almeida%2C Regent":MAILTO:janice.maggie1@gmail.com
END:VEVENT
BEGIN:VEVENT
DTSTART;TZID=America/Chicago:20270209T180000
DTEND;TZID=America/Chicago:20270209T203000
DTSTAMP:20260424T110750
CREATED:20230918T124912Z
LAST-MODIFIED:20260112T191527Z
UID:11350-1802196000-1802205000@cdaboerne.org
SUMMARY:CDA Court Meeting
DESCRIPTION:Link to bring food for the meeting
URL:https://cdaboerne.org/event/cda-court-meeting/2027-02-09/
LOCATION:St. Anthony’s @ UTR\, 416 W. Highland\, Boerne\, TX\, 78006\, United States
ORGANIZER;CN="Janice Almeida%2C Regent":MAILTO:janice.maggie1@gmail.com
END:VEVENT
BEGIN:VEVENT
DTSTART;TZID=America/Chicago:20270309T180000
DTEND;TZID=America/Chicago:20270309T203000
DTSTAMP:20260424T110750
CREATED:20230918T124912Z
LAST-MODIFIED:20260112T191527Z
UID:11502-1804615200-1804624200@cdaboerne.org
SUMMARY:CDA Court Meeting
DESCRIPTION:Link to bring food for the meeting
URL:https://cdaboerne.org/event/cda-court-meeting/2027-03-09/
LOCATION:St. Anthony’s @ UTR\, 416 W. Highland\, Boerne\, TX\, 78006\, United States
ORGANIZER;CN="Janice Almeida%2C Regent":MAILTO:janice.maggie1@gmail.com
END:VEVENT
BEGIN:VEVENT
DTSTART;TZID=America/Chicago:20270413T180000
DTEND;TZID=America/Chicago:20270413T203000
DTSTAMP:20260424T110750
CREATED:20230918T124912Z
LAST-MODIFIED:20260112T191528Z
UID:11687-1807639200-1807648200@cdaboerne.org
SUMMARY:CDA Court Meeting
DESCRIPTION:Link to bring food for the meeting
URL:https://cdaboerne.org/event/cda-court-meeting/2027-04-13/
LOCATION:St. Anthony’s @ UTR\, 416 W. Highland\, Boerne\, TX\, 78006\, United States
ORGANIZER;CN="Janice Almeida%2C Regent":MAILTO:janice.maggie1@gmail.com
END:VEVENT
BEGIN:VEVENT
DTSTART;TZID=America/Chicago:20270511T180000
DTEND;TZID=America/Chicago:20270511T203000
DTSTAMP:20260424T110750
CREATED:20230918T124912Z
LAST-MODIFIED:20260112T191528Z
UID:11730-1810058400-1810067400@cdaboerne.org
SUMMARY:CDA Court Meeting
DESCRIPTION:Link to bring food for the meeting
URL:https://cdaboerne.org/event/cda-court-meeting/2027-05-11/
LOCATION:St. Anthony’s @ UTR\, 416 W. Highland\, Boerne\, TX\, 78006\, United States
ORGANIZER;CN="Janice Almeida%2C Regent":MAILTO:janice.maggie1@gmail.com
END:VEVENT
BEGIN:VEVENT
DTSTART;TZID=America/Chicago:20270608T180000
DTEND;TZID=America/Chicago:20270608T203000
DTSTAMP:20260424T110750
CREATED:20230918T124912Z
LAST-MODIFIED:20260112T191528Z
UID:11787-1812477600-1812486600@cdaboerne.org
SUMMARY:CDA Court Meeting
DESCRIPTION:Link to bring food for the meeting
URL:https://cdaboerne.org/event/cda-court-meeting/2027-06-08/
LOCATION:St. Anthony’s @ UTR\, 416 W. Highland\, Boerne\, TX\, 78006\, United States
ORGANIZER;CN="Janice Almeida%2C Regent":MAILTO:janice.maggie1@gmail.com
END:VEVENT
BEGIN:VEVENT
DTSTART;TZID=America/Chicago:20270713T180000
DTEND;TZID=America/Chicago:20270713T203000
DTSTAMP:20260424T110750
CREATED:20230918T124912Z
LAST-MODIFIED:20260112T191528Z
UID:11947-1815501600-1815510600@cdaboerne.org
SUMMARY:CDA Court Meeting
DESCRIPTION:Link to bring food for the meeting
URL:https://cdaboerne.org/event/cda-court-meeting/2027-07-13/
LOCATION:St. Anthony’s @ UTR\, 416 W. Highland\, Boerne\, TX\, 78006\, United States
ORGANIZER;CN="Janice Almeida%2C Regent":MAILTO:janice.maggie1@gmail.com
END:VEVENT
BEGIN:VEVENT
DTSTART;TZID=America/Chicago:20270810T180000
DTEND;TZID=America/Chicago:20270810T203000
DTSTAMP:20260424T110750
CREATED:20230918T124912Z
LAST-MODIFIED:20260112T191529Z
UID:12063-1817920800-1817929800@cdaboerne.org
SUMMARY:CDA Court Meeting
DESCRIPTION:Link to bring food for the meeting
URL:https://cdaboerne.org/event/cda-court-meeting/2027-08-10/
LOCATION:St. Anthony’s @ UTR\, 416 W. Highland\, Boerne\, TX\, 78006\, United States
ORGANIZER;CN="Janice Almeida%2C Regent":MAILTO:janice.maggie1@gmail.com
END:VEVENT
BEGIN:VEVENT
DTSTART;TZID=America/Chicago:20270914T180000
DTEND;TZID=America/Chicago:20270914T203000
DTSTAMP:20260424T110750
CREATED:20230918T124912Z
LAST-MODIFIED:20260112T191529Z
UID:12272-1820944800-1820953800@cdaboerne.org
SUMMARY:CDA Court Meeting
DESCRIPTION:Link to bring food for the meeting
URL:https://cdaboerne.org/event/cda-court-meeting/2027-09-14/
LOCATION:St. Anthony’s @ UTR\, 416 W. Highland\, Boerne\, TX\, 78006\, United States
ORGANIZER;CN="Janice Almeida%2C Regent":MAILTO:janice.maggie1@gmail.com
END:VEVENT
BEGIN:VEVENT
DTSTART;TZID=America/Chicago:20271012T180000
DTEND;TZID=America/Chicago:20271012T203000
DTSTAMP:20260424T110750
CREATED:20230918T124912Z
LAST-MODIFIED:20260112T191529Z
UID:12374-1823364000-1823373000@cdaboerne.org
SUMMARY:CDA Court Meeting
DESCRIPTION:Link to bring food for the meeting
URL:https://cdaboerne.org/event/cda-court-meeting/2027-10-12/
LOCATION:St. Anthony’s @ UTR\, 416 W. Highland\, Boerne\, TX\, 78006\, United States
ORGANIZER;CN="Janice Almeida%2C Regent":MAILTO:janice.maggie1@gmail.com
END:VEVENT
BEGIN:VEVENT
DTSTART;TZID=America/Chicago:20271109T180000
DTEND;TZID=America/Chicago:20271109T203000
DTSTAMP:20260424T110750
CREATED:20230918T124912Z
LAST-MODIFIED:20260112T191530Z
UID:12524-1825783200-1825792200@cdaboerne.org
SUMMARY:CDA Court Meeting
DESCRIPTION:Link to bring food for the meeting
URL:https://cdaboerne.org/event/cda-court-meeting/2027-11-09/
LOCATION:St. Anthony’s @ UTR\, 416 W. Highland\, Boerne\, TX\, 78006\, United States
ORGANIZER;CN="Janice Almeida%2C Regent":MAILTO:janice.maggie1@gmail.com
END:VEVENT
BEGIN:VEVENT
DTSTART;TZID=America/Chicago:20271214T180000
DTEND;TZID=America/Chicago:20271214T203000
DTSTAMP:20260424T110750
CREATED:20230918T124912Z
LAST-MODIFIED:20260112T191530Z
UID:12748-1828807200-1828816200@cdaboerne.org
SUMMARY:CDA Court Meeting
DESCRIPTION:Link to bring food for the meeting
URL:https://cdaboerne.org/event/cda-court-meeting/2027-12-14/
LOCATION:St. Anthony’s @ UTR\, 416 W. Highland\, Boerne\, TX\, 78006\, United States
ORGANIZER;CN="Janice Almeida%2C Regent":MAILTO:janice.maggie1@gmail.com
END:VEVENT
BEGIN:VEVENT
DTSTART;TZID=America/Chicago:20280111T180000
DTEND;TZID=America/Chicago:20280111T203000
DTSTAMP:20260424T110750
CREATED:20230918T124912Z
LAST-MODIFIED:20260112T191530Z
UID:12840-1831226400-1831235400@cdaboerne.org
SUMMARY:CDA Court Meeting
DESCRIPTION:Link to bring food for the meeting
URL:https://cdaboerne.org/event/cda-court-meeting/2028-01-11/
LOCATION:St. Anthony’s @ UTR\, 416 W. Highland\, Boerne\, TX\, 78006\, United States
ORGANIZER;CN="Janice Almeida%2C Regent":MAILTO:janice.maggie1@gmail.com
END:VEVENT
BEGIN:VEVENT
DTSTART;TZID=America/Chicago:20280208T180000
DTEND;TZID=America/Chicago:20280208T203000
DTSTAMP:20260424T110750
CREATED:20230918T124912Z
LAST-MODIFIED:20230918T124912Z
UID:13001-1833645600-1833654600@cdaboerne.org
SUMMARY:CDA Court Meeting
DESCRIPTION:Link to bring food for the meeting
URL:https://cdaboerne.org/event/cda-court-meeting/2028-02-08/
LOCATION:St. Anthony’s @ UTR\, 416 W. Highland\, Boerne\, TX\, 78006\, United States
ORGANIZER;CN="Janice Almeida%2C Regent":MAILTO:janice.maggie1@gmail.com
END:VEVENT
END:VCALENDAR