BEGIN:VCALENDAR
VERSION:2.0
PRODID:-//CDA Court 2690 - ECPv6.15.20//NONSGML v1.0//EN
CALSCALE:GREGORIAN
METHOD:PUBLISH
X-ORIGINAL-URL:https://cdaboerne.org
X-WR-CALDESC:Events for CDA Court 2690
REFRESH-INTERVAL;VALUE=DURATION:PT1H
X-Robots-Tag:noindex
X-PUBLISHED-TTL:PT1H
BEGIN:VTIMEZONE
TZID:UTC
BEGIN:STANDARD
TZOFFSETFROM:+0000
TZOFFSETTO:+0000
TZNAME:UTC
DTSTART:20210101T000000
END:STANDARD
END:VTIMEZONE
BEGIN:VEVENT
DTSTART;TZID=UTC:20221020T160000
DTEND;TZID=UTC:20221020T170000
DTSTAMP:20260424T222341
CREATED:20221005T015532Z
LAST-MODIFIED:20231017T175438Z
UID:1988-1666281600-1666285200@cdaboerne.org
SUMMARY:Wednesday Adoration
DESCRIPTION:CDA hosts Adoration from 4 – 5 p.m. every Wednesday.  Please use the Sign-Up Genius link provided
URL:https://cdaboerne.org/event/wednesday-adoration/2022-10-20/
LOCATION:St. Peter the Apostle Catholic Church -FLC Rm 161\, 202 W. Kronkosky St.\, Boerne\, TX\, 78006\, United States
END:VEVENT
END:VCALENDAR