BEGIN:VCALENDAR
VERSION:2.0
PRODID:-//CDA Court 2690 - ECPv6.15.20//NONSGML v1.0//EN
CALSCALE:GREGORIAN
METHOD:PUBLISH
X-WR-CALNAME:CDA Court 2690
X-ORIGINAL-URL:https://cdaboerne.org
X-WR-CALDESC:Events for CDA Court 2690
REFRESH-INTERVAL;VALUE=DURATION:PT1H
X-Robots-Tag:noindex
X-PUBLISHED-TTL:PT1H
BEGIN:VTIMEZONE
TZID:America/Chicago
BEGIN:DAYLIGHT
TZOFFSETFROM:-0600
TZOFFSETTO:-0500
TZNAME:CDT
DTSTART:20230312T080000
END:DAYLIGHT
BEGIN:STANDARD
TZOFFSETFROM:-0500
TZOFFSETTO:-0600
TZNAME:CST
DTSTART:20231105T070000
END:STANDARD
BEGIN:DAYLIGHT
TZOFFSETFROM:-0600
TZOFFSETTO:-0500
TZNAME:CDT
DTSTART:20240310T080000
END:DAYLIGHT
BEGIN:STANDARD
TZOFFSETFROM:-0500
TZOFFSETTO:-0600
TZNAME:CST
DTSTART:20241103T070000
END:STANDARD
BEGIN:DAYLIGHT
TZOFFSETFROM:-0600
TZOFFSETTO:-0500
TZNAME:CDT
DTSTART:20250309T080000
END:DAYLIGHT
BEGIN:STANDARD
TZOFFSETFROM:-0500
TZOFFSETTO:-0600
TZNAME:CST
DTSTART:20251102T070000
END:STANDARD
END:VTIMEZONE
BEGIN:VEVENT
DTSTART;TZID=America/Chicago:20240915T180000
DTEND;TZID=America/Chicago:20240915T183000
DTSTAMP:20260424T202324
CREATED:20240822T231428Z
LAST-MODIFIED:20240822T231428Z
UID:9622-1726423200-1726425000@cdaboerne.org
SUMMARY:Sell tickets after Mass for Burgers\, Baskets & Bingo
DESCRIPTION:Help us sell tickets after mass \nJust go to Volunteer tab and click on the link to sign up
URL:https://cdaboerne.org/event/sell-tickets-after-mass-for-burgers-baskets-bingo/2024-09-15/4/
LOCATION:St. Peter the Apostle Church\, 202 W. Kronkosky\, Boerne\, TX\, 78006\, United States
ORGANIZER;CN="Janice Almeida%2C Regent":MAILTO:janice.maggie1@gmail.com
END:VEVENT
BEGIN:VEVENT
DTSTART;TZID=America/Chicago:20240915T140000
DTEND;TZID=America/Chicago:20240915T143000
DTSTAMP:20260424T202324
CREATED:20240822T231428Z
LAST-MODIFIED:20240822T231428Z
UID:9621-1726408800-1726410600@cdaboerne.org
SUMMARY:Sell tickets after Mass for Burgers\, Baskets & Bingo
DESCRIPTION:Help us sell tickets after mass \nJust go to Volunteer tab and click on the link to sign up
URL:https://cdaboerne.org/event/sell-tickets-after-mass-for-burgers-baskets-bingo/2024-09-15/3/
LOCATION:St. Peter the Apostle Church\, 202 W. Kronkosky\, Boerne\, TX\, 78006\, United States
ORGANIZER;CN="Janice Almeida%2C Regent":MAILTO:janice.maggie1@gmail.com
END:VEVENT
BEGIN:VEVENT
DTSTART;TZID=America/Chicago:20240915T120000
DTEND;TZID=America/Chicago:20240915T123000
DTSTAMP:20260424T202324
CREATED:20240822T231428Z
LAST-MODIFIED:20240822T231428Z
UID:9620-1726401600-1726403400@cdaboerne.org
SUMMARY:Sell tickets after Mass for Burgers\, Baskets & Bingo
DESCRIPTION:Help us sell tickets after mass \nJust go to Volunteer tab and click on the link to sign up
URL:https://cdaboerne.org/event/sell-tickets-after-mass-for-burgers-baskets-bingo/2024-09-15/2/
LOCATION:St. Peter the Apostle Church\, 202 W. Kronkosky\, Boerne\, TX\, 78006\, United States
ORGANIZER;CN="Janice Almeida%2C Regent":MAILTO:janice.maggie1@gmail.com
END:VEVENT
BEGIN:VEVENT
DTSTART;TZID=America/Chicago:20240915T100000
DTEND;TZID=America/Chicago:20240915T103000
DTSTAMP:20260424T202324
CREATED:20240822T231428Z
LAST-MODIFIED:20240822T231428Z
UID:9619-1726394400-1726396200@cdaboerne.org
SUMMARY:Sell tickets after Mass for Burgers\, Baskets & Bingo
DESCRIPTION:Help us sell tickets after mass \nJust go to Volunteer tab and click on the link to sign up
URL:https://cdaboerne.org/event/sell-tickets-after-mass-for-burgers-baskets-bingo/2024-09-15/
LOCATION:St. Peter the Apostle Church\, 202 W. Kronkosky\, Boerne\, TX\, 78006\, United States
ORGANIZER;CN="Janice Almeida%2C Regent":MAILTO:janice.maggie1@gmail.com
END:VEVENT
BEGIN:VEVENT
DTSTART;TZID=America/Chicago:20240914T183000
DTEND;TZID=America/Chicago:20240914T190000
DTSTAMP:20260424T202324
CREATED:20240822T231428Z
LAST-MODIFIED:20240822T231428Z
UID:9618-1726338600-1726340400@cdaboerne.org
SUMMARY:Sell tickets after Mass for Burgers\, Baskets & Bingo
DESCRIPTION:Help us sell tickets after mass \nJust go to Volunteer tab and click on the link to sign up
URL:https://cdaboerne.org/event/sell-tickets-after-mass-for-burgers-baskets-bingo/2024-09-14/
LOCATION:St. Peter the Apostle Church\, 202 W. Kronkosky\, Boerne\, TX\, 78006\, United States
ORGANIZER;CN="Janice Almeida%2C Regent":MAILTO:janice.maggie1@gmail.com
END:VEVENT
END:VCALENDAR