BEGIN:VCALENDAR
VERSION:2.0
PRODID:-//CDA Court 2690 - ECPv6.15.20//NONSGML v1.0//EN
CALSCALE:GREGORIAN
METHOD:PUBLISH
X-ORIGINAL-URL:https://cdaboerne.org
X-WR-CALDESC:Events for CDA Court 2690
REFRESH-INTERVAL;VALUE=DURATION:PT1H
X-Robots-Tag:noindex
X-PUBLISHED-TTL:PT1H
BEGIN:VTIMEZONE
TZID:America/Chicago
BEGIN:DAYLIGHT
TZOFFSETFROM:-0600
TZOFFSETTO:-0500
TZNAME:CDT
DTSTART:20220313T080000
END:DAYLIGHT
BEGIN:STANDARD
TZOFFSETFROM:-0500
TZOFFSETTO:-0600
TZNAME:CST
DTSTART:20221106T070000
END:STANDARD
BEGIN:DAYLIGHT
TZOFFSETFROM:-0600
TZOFFSETTO:-0500
TZNAME:CDT
DTSTART:20230312T080000
END:DAYLIGHT
BEGIN:STANDARD
TZOFFSETFROM:-0500
TZOFFSETTO:-0600
TZNAME:CST
DTSTART:20231105T070000
END:STANDARD
BEGIN:DAYLIGHT
TZOFFSETFROM:-0600
TZOFFSETTO:-0500
TZNAME:CDT
DTSTART:20240310T080000
END:DAYLIGHT
BEGIN:STANDARD
TZOFFSETFROM:-0500
TZOFFSETTO:-0600
TZNAME:CST
DTSTART:20241103T070000
END:STANDARD
END:VTIMEZONE
BEGIN:VEVENT
DTSTART;TZID=America/Chicago:20230826T180000
DTEND;TZID=America/Chicago:20230826T190000
DTSTAMP:20260424T202203
CREATED:20230820T175103Z
LAST-MODIFIED:20230820T175412Z
UID:5548-1693072800-1693076400@cdaboerne.org
SUMMARY:Ministry Fair
DESCRIPTION:Host CDA table after mass
URL:https://cdaboerne.org/event/ministry-fair/2023-08-26/
LOCATION:Cana Ballroom\, 202 W. Kronkosky\, Boerne\, TX\, 78006\, United States
END:VEVENT
END:VCALENDAR