BEGIN:VCALENDAR
VERSION:2.0
PRODID:-//CDA Court 2690 - ECPv6.15.20//NONSGML v1.0//EN
CALSCALE:GREGORIAN
METHOD:PUBLISH
X-WR-CALNAME:CDA Court 2690
X-ORIGINAL-URL:https://cdaboerne.org
X-WR-CALDESC:Events for CDA Court 2690
REFRESH-INTERVAL;VALUE=DURATION:PT1H
X-Robots-Tag:noindex
X-PUBLISHED-TTL:PT1H
BEGIN:VTIMEZONE
TZID:UTC
BEGIN:STANDARD
TZOFFSETFROM:+0000
TZOFFSETTO:+0000
TZNAME:UTC
DTSTART:20220101T000000
END:STANDARD
END:VTIMEZONE
BEGIN:VEVENT
DTSTART;TZID=UTC:20230303T160000
DTEND;TZID=UTC:20230303T190000
DTSTAMP:20260424T225910
CREATED:20230112T110938Z
LAST-MODIFIED:20230112T110938Z
UID:3338-1677859200-1677870000@cdaboerne.org
SUMMARY:Fish Fry
DESCRIPTION:Save the date – more details to follow
URL:https://cdaboerne.org/event/fish-fry/2023-03-03/
LOCATION:Fish Fry
END:VEVENT
END:VCALENDAR